BEGIN:VCALENDAR
VERSION:2.0
PRODID:-//Pacienti - ECPv5.2.1//NONSGML v1.0//EN
CALSCALE:GREGORIAN
METHOD:PUBLISH
X-WR-CALNAME:Pacienti
X-ORIGINAL-URL:http://pacienti.si
X-WR-CALDESC:Events for Pacienti
BEGIN:VTIMEZONE
TZID:UTC
BEGIN:STANDARD
TZOFFSETFROM:+0000
TZOFFSETTO:+0000
TZNAME:UTC
DTSTART:20250101T000000
END:STANDARD
END:VTIMEZONE
BEGIN:VEVENT
DTSTART;VALUE=DATE:20251114
DTEND;VALUE=DATE:20251117
DTSTAMP:20260422T063725
CREATED:20251019T173618Z
LAST-MODIFIED:20251019T173618Z
UID:6842-1763078400-1763337599@pacienti.si
SUMMARY:Zdravstveni vikend 2025 // 14. – 16. NOV // Vantačići\, Krk
DESCRIPTION:Drage študentke in študentje Zdravstvene fakultete! ❤️ \nZ največjim veseljem naznanjamo 𝟭𝟮. 𝗭𝗗𝗥𝗔𝗩𝗦𝗧𝗩𝗘𝗡𝗜 𝗩𝗜𝗞𝗘𝗡𝗗\, ki bo letos potekal 𝗼𝗱 𝟭𝟰. 𝗱𝗼 𝟭𝟲. 𝗻𝗼𝘃𝗲𝗺𝗯𝗿𝗮! 🤩 \nℹ️ 𝗭𝗗𝗥𝗔𝗩𝗦𝗧𝗩𝗘𝗡𝗜 𝗩𝗜𝗞𝗘𝗡𝗗 je dogodek\, ki združuje študente Zdravstvene fakultete Univerze v Ljubljani in jim ponuja priložnost za medsebojno spoznavanje\, izmenjavo znanj ter razvijanje novih prijateljstev in spominov. \nLetos se odpravljamo na 𝗲𝗸𝘀𝗸𝗹𝘂𝘇𝗶𝘃𝗻𝗼 𝗹𝗼𝗸𝗮𝗰𝗶𝗷𝗼 – 𝗰̌𝘂𝗱𝗼𝘃𝗶𝘁𝗶 𝗼𝘁𝗼𝗸 𝗞𝗿𝗸! 🇭🇷🌴 \nTam nas čakajo 𝘁𝗿𝗶𝗷𝗲 𝗱𝗻𝗲𝘃𝗶 bogatega in raznolikega programa\, prepletenega s 𝘀𝘁𝗿𝗼𝗸𝗼𝘃𝗻𝗶𝗺𝗶 𝘃𝘀𝗲𝗯𝗶𝗻𝗮𝗺𝗶\, 𝗱𝗿𝘂𝘇̌𝗲𝗻𝗷𝗲𝗺\, 𝘀̌𝗽𝗼𝗿𝘁𝗼𝗺 𝗶𝗻 𝘇𝗮𝗯𝗮𝘃𝗼! 🙂‍↕️ \n📬 𝗣𝗥𝗜𝗝𝗔𝗩𝗔: https://forms.gle/3xPEhBnNk3K5qhS66 \n💶 𝗖𝗘𝗡𝗔 𝗭𝗗𝗥𝗔𝗩𝗦𝗧𝗩𝗘𝗡𝗘𝗚𝗔 𝗩𝗜𝗞𝗘𝗡𝗗𝗔 𝟮𝟬𝟮𝟱 \n1️⃣ EARLY BIRD: 75 € (prvih 20 plačanih udeležencev)\n2️⃣ REDNA CENA: 95 € \n𝗩 𝗰𝗲𝗻𝗼 𝗷𝗲 𝘃𝗸𝗹𝗷𝘂𝗰̌𝗲𝗻𝗼:\n– avtobusni prevoz Ljubljana – Vantačići\, Krk – Ljubljana\,\n– 2 nočitvi v hostlu v Vantačićih\,\n– en pol- in en polni penzion v času bivanja\,\n– udeležba na predavanjih in delavnicah\,\n– udeležba na večernih zabavah\,\n– Pacienti goodie bag. \n📋 𝗣𝗥𝗢𝗚𝗥𝗔𝗠: TBA \n𝘗𝘳𝘰𝘨𝘳𝘢𝘮 𝘫𝘦 𝘻𝘢𝘴𝘯𝘰𝘷𝘢𝘯 𝘵𝘢𝘬𝘰\, 𝘥𝘢 𝘷𝘬𝘭𝘫𝘶𝘤̌𝘶𝘫𝘦 𝘴̌𝘪𝘳𝘰𝘬 𝘴𝘱𝘦𝘬𝘵𝘦𝘳 𝘢𝘬𝘵𝘪𝘷𝘯𝘰𝘴𝘵𝘪\, 𝘰𝘥 𝘴̌𝘱𝘰𝘳𝘵𝘯𝘪𝘩 𝘵𝘦𝘬𝘮𝘰𝘷𝘢𝘯𝘫 𝘪𝘯 𝘥𝘳𝘶𝘻̌𝘢𝘣𝘯𝘪𝘩 𝘪𝘨𝘦𝘳 𝘥𝘰 𝘷𝘦𝘤̌𝘦𝘳𝘯𝘪𝘩 𝘻𝘢𝘣𝘢𝘷 𝘪𝘯 𝘯𝘢𝘫𝘱𝘰𝘮𝘦𝘮𝘣𝘯𝘦𝘫𝘴̌𝘦 – 𝘴𝘵𝘳𝘰𝘬𝘰𝘷𝘯𝘪𝘩 𝘱𝘳𝘦𝘥𝘢𝘷𝘢𝘯𝘫 𝘪𝘯 𝘳𝘢𝘻𝘭𝘪𝘤̌𝘯𝘪𝘩 𝘱𝘰𝘶𝘤̌𝘯𝘪𝘩 𝘥𝘦𝘭𝘢𝘷𝘯𝘪𝘤. \nℹ️ 𝗗𝗼𝗱𝗮𝘁𝗻𝗲 𝗶𝗻𝗳𝗼𝗿𝗺𝗮𝗰𝗶𝗷𝗲: info@pacienti.si \nMi že komaj čakamo na najboljši vikend leta – vikend priložnosti za rast\, povezovanje in sprostitev! ❤️ \nNe odlašaj s prijavo in postani del nepozabne zgodbe Zdravstvenega vikenda\, ki se piše že 12. leto! 🥳
URL:http://pacienti.si/dogodek/zdravstveni-vikend-2025-14-16-nov-vantacici-krk/
LOCATION:KRK
ATTACH;FMTTYPE=image/jpeg:http://pacienti.si/wp-content/uploads/2025/10/unnamed.jpg
ORGANIZER;CN="Pacienti%20Zdravstvene%20fakultete":MAILTO:nasi.pacienti@gmail.com
END:VEVENT
END:VCALENDAR