BEGIN:VCALENDAR
VERSION:2.0
PRODID:-//Pacienti - ECPv5.2.1//NONSGML v1.0//EN
CALSCALE:GREGORIAN
METHOD:PUBLISH
X-WR-CALNAME:Pacienti
X-ORIGINAL-URL:http://pacienti.si
X-WR-CALDESC:Events for Pacienti
BEGIN:VTIMEZONE
TZID:UTC
BEGIN:STANDARD
TZOFFSETFROM:+0000
TZOFFSETTO:+0000
TZNAME:UTC
DTSTART:20220101T000000
END:STANDARD
END:VTIMEZONE
BEGIN:VEVENT
DTSTART;VALUE=DATE:20221014
DTEND;VALUE=DATE:20221017
DTSTAMP:20260421T185204
CREATED:20220926T182014Z
LAST-MODIFIED:20220926T182014Z
UID:5126-1665705600-1665964799@pacienti.si
SUMMARY:Zdravstveni vikend 2022
DESCRIPTION:Drage študentke in cenjeni študenti Zdravstvene fakultete! \nZ največjim veseljem vam sporočamo\, da je pred nami težko pričakovani\, letos že 𝟏𝟎. 𝐙𝐝𝐫𝐚𝐯𝐬𝐭𝐯𝐞𝐧𝐢 𝐯𝐢𝐤𝐞𝐧𝐝! \nNa vikendu se bodo zvrstila predavanja\, delavnice ter različne oblike druženja. Dopoldan se bomo izobraževali\, popoldan bomo izkoristili za športne\, družabne igre in kopanje v notranjih bazenih\, večerne ure pa bomo namenili zabavi. \nV treh dneh se bodo stkale nove prijateljske vezi\, ustvarili nepozabni spomini in za nekatere začele pisati zanimive zgodbe študentskega življenja. \nUdeležba je 𝐨𝐛𝐯𝐞𝐳𝐧𝐚! \n\n 𝐊𝐝𝐚𝐣? 14.10. – 16.10.2022\n 𝐊𝐣𝐞? Mariborsko Pohorje\n 𝐂𝐞𝐧𝐚:\n• EARLY BIRD: 𝟕𝟎€ (prvih 30 plačanih)\n• REDNA CENA: 𝟖𝟓€\n\n 𝐏𝐫𝐢𝐣𝐚𝐯𝐚 𝐧𝐚 𝐙𝐝𝐫𝐚𝐯𝐬𝐭𝐯𝐞𝐧𝐢 𝐯𝐢𝐤𝐞𝐧𝐝: https://forms.gle/XaKF7G9zk8JDh73L7\n𝐏𝐫𝐢𝐣𝐚𝐯𝐚 𝐧𝐚 𝐝𝐨𝐠𝐨𝐝𝐞𝐤 𝐣𝐞 𝐩𝐨𝐩𝐨𝐥𝐧𝐚 𝐨𝐛 𝐩𝐨𝐫𝐚𝐯𝐧𝐚𝐯𝐢 𝐩𝐥𝐚𝐜̌𝐢𝐥𝐚. Vse potrebne informacije o možnosti plačila prejmete na elektronski naslov s katerim se na dogodek prijavljate.\n\n𝐃𝐨𝐝𝐚𝐭𝐧𝐞 𝐢𝐧𝐟𝐨𝐫𝐦𝐚𝐜𝐢𝐣𝐞: info@pacienti.si // +386 (0)70 482 582\n\n𝐃𝐨𝐠𝐨𝐝𝐞𝐤 𝐬𝐨 𝐨𝐦𝐨𝐠𝐨𝐜̌𝐢𝐥𝐢:\n– Študentski svet Zdravstvene fakultete\n– Študentska organizacija Zdravstvene fakultete\n– Športno društvo Zdravstvene fakultete\n– ŠOU v Ljubljani\n– G3Spirits\n– Statera Wine Estate
URL:http://pacienti.si/dogodek/zdravstveni-vikend-2022/
LOCATION:Hotel Videc – Mariborsko Pohorje\, Hočko Pohorje 127\, Hočko Pohorje\, Slovenija
CATEGORIES:Delavnica,Izobraževanje,Šport,Zabava,Zdravje
ATTACH;FMTTYPE=image/jpeg:http://pacienti.si/wp-content/uploads/2022/09/Zdravstveni-vikend.jpg
ORGANIZER;CN="Pacienti%20Zdravstvene%20fakultete":MAILTO:nasi.pacienti@gmail.com
END:VEVENT
END:VCALENDAR