BEGIN:VCALENDAR
VERSION:2.0
PRODID:-//Pacienti - ECPv5.2.1//NONSGML v1.0//EN
CALSCALE:GREGORIAN
METHOD:PUBLISH
X-WR-CALNAME:Pacienti
X-ORIGINAL-URL:http://pacienti.si
X-WR-CALDESC:Events for Pacienti
BEGIN:VTIMEZONE
TZID:UTC
BEGIN:STANDARD
TZOFFSETFROM:+0000
TZOFFSETTO:+0000
TZNAME:UTC
DTSTART:20180101T000000
END:STANDARD
END:VTIMEZONE
BEGIN:VEVENT
DTSTART;VALUE=DATE:20181116
DTEND;VALUE=DATE:20181119
DTSTAMP:20260423T015215
CREATED:20200925T184530Z
LAST-MODIFIED:20201030T210524Z
UID:1931-1542326400-1542585599@pacienti.si
SUMMARY:Zdravstveni vikend 2018
DESCRIPTION:V petek 16.11.2018 smo se študentje zbrali pred Zdravstveno fakulteto in se odpravili na težko pričakovan Zdravstveni vikend v Selce. Odločili smo se\, da bomo študente odpeljali v tujino\, in sicer na Hrvaško\, natančneje v mesto Selce\, kjer se je kar 65 študentov družilo ter izobraževalo na temu obštudijskih in zdravstvenih tem celoten vikend. V treh dneh so se zvrstili tudi športni in zabavni dogodki. V soboto smo se najprej udeležili team-building delavnice\, nato je sledilo predavanje STA potovalne agencije\, pridružila pa sta se nam tudi profesorja fakultete in nam povedala vse potrebno o pisanju diplomskega dela. Po kosilu sta sledili še delavnici “To bo moj poklic” in “Projektno delo”\, pred večerjo pa smo se sprostili ob športnih igrah. Večer je minil v sproščenem vzdušju ob glasbi. V nedeljo smo se dopoldne zbrali še na zaključnem sestanku\, kjer smo naredili evalvacijo vikenda\, nato pa se počasi vrnili proti Ljubljani. \nPOVEZAVA DO FOTOGALERIJE
URL:http://pacienti.si/dogodek/zdravstveni-vikend-2018/
LOCATION:Selce\, Hrvaška
CATEGORIES:Izobraževanje,Šport,Turizem,Zabava
ATTACH;FMTTYPE=image/jpeg:http://pacienti.si/wp-content/uploads/2020/09/46945588_2198392016890829_5576401231489794048_o.jpg
ORGANIZER;CN="Pacienti%20Zdravstvene%20fakultete":MAILTO:nasi.pacienti@gmail.com
END:VEVENT
END:VCALENDAR