BEGIN:VCALENDAR
VERSION:2.0
PRODID:-//Pacienti - ECPv5.2.1//NONSGML v1.0//EN
CALSCALE:GREGORIAN
METHOD:PUBLISH
X-WR-CALNAME:Pacienti
X-ORIGINAL-URL:http://pacienti.si
X-WR-CALDESC:Events for Pacienti
BEGIN:VTIMEZONE
TZID:UTC
BEGIN:STANDARD
TZOFFSETFROM:+0000
TZOFFSETTO:+0000
TZNAME:UTC
DTSTART:20180101T000000
END:STANDARD
END:VTIMEZONE
BEGIN:VEVENT
DTSTART;VALUE=DATE:20181218
DTEND;VALUE=DATE:20181219
DTSTAMP:20260422T223939
CREATED:20201030T213333Z
LAST-MODIFIED:20201030T220554Z
UID:3205-1545091200-1545177599@pacienti.si
SUMMARY:Ekonomska vs Zdravstvena
DESCRIPTION:Spoznavni žur tukaj\, spoznavni žur tam\, brucovanje Zdravstvene fakultete\, vseštudentski spoznavni žur… Kaj pa če bi naredili nekaj novega?  Zdravstvena fakulteta proti Ekonomski fakulteti\, večna borba dveh fakultet Univerze v Ljubljani. Pa vendarle je bil končni rezultat udeležbe po pričakovanjih\, bruci Zdravstvene fakultete so preplavili Cirkus in ponovno utišali bruce Ekonomske fakultete.
URL:http://pacienti.si/dogodek/zdravstvena-fakulteta/
LOCATION:Cirkus klub\, Trg mladinskih delovnih brigad 7\, Ljubljana\, 1000\, Slovenija
CATEGORIES:Zabava
ATTACH;FMTTYPE=image/jpeg:http://pacienti.si/wp-content/uploads/2020/10/48146598_1820945788015858_1545901838140702720_o.jpg
ORGANIZER;CN="Pacienti%20Zdravstvene%20fakultete":MAILTO:nasi.pacienti@gmail.com
END:VEVENT
END:VCALENDAR