BEGIN:VCALENDAR
VERSION:2.0
PRODID:-//Pacienti - ECPv5.2.1//NONSGML v1.0//EN
CALSCALE:GREGORIAN
METHOD:PUBLISH
X-WR-CALNAME:Pacienti
X-ORIGINAL-URL:http://pacienti.si
X-WR-CALDESC:Events for Pacienti
BEGIN:VTIMEZONE
TZID:UTC
BEGIN:STANDARD
TZOFFSETFROM:+0000
TZOFFSETTO:+0000
TZNAME:UTC
DTSTART:20200101T000000
END:STANDARD
END:VTIMEZONE
BEGIN:VEVENT
DTSTART;VALUE=DATE:20200523
DTEND;VALUE=DATE:20200525
DTSTAMP:20260422T060744
CREATED:20201030T144644Z
LAST-MODIFIED:20201030T144644Z
UID:3112-1590192000-1590364799@pacienti.si
SUMMARY:Vseštudentski CS:GO Online turnir
DESCRIPTION:Z veseljem sporočamo\, da smo uspešno zaključili PRVI DVODNEVNI Vseštudentski online CSGO turnir. Zahvalili bi se radi vsem igralcem\, bilo vas je rekordnih 130!! Prav tako smo bili veseli vseh gledalcev\, ki ste z nami opazovali napete dvoboje\, se s komentatorji nasmejali in preživeli dva dobra popoldneva v naši družbi.
URL:http://pacienti.si/dogodek/vsestudentski-csgo-online-turnir/
CATEGORIES:Zabava
ATTACH;FMTTYPE=image/jpeg:http://pacienti.si/wp-content/uploads/2020/10/CS-go-online-turnir.jpg
ORGANIZER;CN="Pacienti%20Zdravstvene%20fakultete":MAILTO:nasi.pacienti@gmail.com
END:VEVENT
END:VCALENDAR