BEGIN:VCALENDAR
VERSION:2.0
PRODID:-//Pacienti - ECPv5.2.1//NONSGML v1.0//EN
CALSCALE:GREGORIAN
METHOD:PUBLISH
X-WR-CALNAME:Pacienti
X-ORIGINAL-URL:http://pacienti.si
X-WR-CALDESC:Events for Pacienti
BEGIN:VTIMEZONE
TZID:UTC
BEGIN:STANDARD
TZOFFSETFROM:+0000
TZOFFSETTO:+0000
TZNAME:UTC
DTSTART:20190101T000000
END:STANDARD
END:VTIMEZONE
BEGIN:VEVENT
DTSTART;VALUE=DATE:20190117
DTEND;VALUE=DATE:20190118
DTSTAMP:20260422T210136
CREATED:20201030T204941Z
LAST-MODIFIED:20201030T205309Z
UID:3192-1547683200-1547769599@pacienti.si
SUMMARY:Vprašaj tutorja!
DESCRIPTION:Na Zdravstveni fakulteti v predavalnici 22 so se zbrali študentje tutorji iz vseh študijskih smeri prve stopnje\, da so mlajšim študentom posredovali nekaj uporabnih trikov in strategij za lažji študij. V prvem delu delavnice so predstavili\, kako potekajo izpiti\, katere člene pravilnikov je dobro poznati\, kaj je nujno vedeti glede prijave in odjave od izpitov\, kako se lotiti učenja in kako potekajo vpogledi v izpit. V drugem delu so se prisotni študentje razdelili po študijskih smereh in študentje tutorji so jim bili na voljo za kakršnakoli vprašanja glede študija in obštudijskih dejavnosti.
URL:http://pacienti.si/dogodek/vprasaj-tutorja/
LOCATION:Zdravstvena fakulteta
CATEGORIES:Izobraževanje
ATTACH;FMTTYPE=image/jpeg:http://pacienti.si/wp-content/uploads/2020/10/50080195_2273989475997749_6473710918571130880_o.jpg
ORGANIZER;CN="Pacienti%20Zdravstvene%20fakultete":MAILTO:nasi.pacienti@gmail.com
END:VEVENT
END:VCALENDAR