BEGIN:VCALENDAR
VERSION:2.0
PRODID:-//Pacienti - ECPv5.2.1//NONSGML v1.0//EN
CALSCALE:GREGORIAN
METHOD:PUBLISH
X-WR-CALNAME:Pacienti
X-ORIGINAL-URL:http://pacienti.si
X-WR-CALDESC:Events for Pacienti
BEGIN:VTIMEZONE
TZID:UTC
BEGIN:STANDARD
TZOFFSETFROM:+0000
TZOFFSETTO:+0000
TZNAME:UTC
DTSTART:20210101T000000
END:STANDARD
END:VTIMEZONE
BEGIN:VEVENT
DTSTART;TZID=UTC:20210116T160000
DTEND;TZID=UTC:20210116T170000
DTSTAMP:20260421T185047
CREATED:20210110T104303Z
LAST-MODIFIED:20210110T104303Z
UID:4691-1610812800-1610816400@pacienti.si
SUMMARY:Vprašaj tutorja
DESCRIPTION:Spoštovane študentke in cenjeni študenti! \nIzpitno obdobje je že pred vrati. Zaradi ONLINE poteka izpitov je letos situacija za vas verjetno še težja. Prepričani smo\, da vam znanja ne primanjkuje\, si pa zagotovo želite pridobiti še kak dober nasvet starejših in izkušenejših študentov. \nZato se bomo v soboto\, 16. januarja 2021 ob 16.00 dobili na spletni platformi ZOOM\, kjer vam bodo na voljo študentje tutorji vseh študijskih programov prve stopnje Zdravstvene fakultete\, da vam odgovorijo na vaša vprašanja in vam hkrati predajo nekaj uporabnih trikov in strategij kako se lotiti prihajajočih izpitov. \nTutorji bodo odprti za vsa vprašanja glede izpitov\, snovi\, zapiskov. Torej naj vas ne bo strah postavljati vprašanj\, kajti namen tutorstva je ravno pomoč mlajšim študentom v vseh aspektih njihovega študija. Skupaj se bomo potrudili\, da vam odgovorimo na vsa vprašanja in vam tako olajšamo pripravo na prihajajoče izpite. 
URL:http://pacienti.si/dogodek/vprasaj-tutorja-2/
CATEGORIES:Delavnica
ATTACH;FMTTYPE=image/jpeg:http://pacienti.si/wp-content/uploads/2021/01/137321615_3884406651580324_4653121934099496456_o-scaled.jpg
ORGANIZER;CN="Pacienti%20Zdravstvene%20fakultete":MAILTO:nasi.pacienti@gmail.com
END:VEVENT
END:VCALENDAR