BEGIN:VCALENDAR
VERSION:2.0
PRODID:-//Pacienti - ECPv5.2.1//NONSGML v1.0//EN
CALSCALE:GREGORIAN
METHOD:PUBLISH
X-WR-CALNAME:Pacienti
X-ORIGINAL-URL:http://pacienti.si
X-WR-CALDESC:Events for Pacienti
BEGIN:VTIMEZONE
TZID:Europe/Paris
BEGIN:DAYLIGHT
TZOFFSETFROM:+0100
TZOFFSETTO:+0200
TZNAME:CEST
DTSTART:20200329T010000
END:DAYLIGHT
BEGIN:STANDARD
TZOFFSETFROM:+0200
TZOFFSETTO:+0100
TZNAME:CET
DTSTART:20201025T010000
END:STANDARD
END:VTIMEZONE
BEGIN:VEVENT
DTSTART;TZID=Europe/Paris:20201203T200000
DTEND;TZID=Europe/Paris:20201203T210000
DTSTAMP:20260421T232910
CREATED:20201128T100013Z
LAST-MODIFIED:20201128T100013Z
UID:4651-1607025600-1607029200@pacienti.si
SUMMARY:Vodena meditacija
DESCRIPTION:PACIENTI za vas pripravljamo novo spletno delavnico z naslovom VODENA MEDITACIJA\, ki jo bo vodila sociologinja Tjaša Macerl\, ki se ukvarja z energijskimi metodami za izboljševanje kvalitete življenja. Preko svojega bloga (https://www.tjasamacerl.com/)\, na to temo\, ustvarja in deli različne vsebine. Organizira in vodi pa tudi skupinske ter individualne energijske tretmaje in Vodene meditacije s katerimi si ljudje pomagajo do več prostosti in notranjega miru. \n\nDogodek je za vse udeležence BREZPLAČEN\, potrebna je zgolj predhodna prijava! Število mest je omejeno na 25 udeležencev!\n\n KDAJ: 03. 12. 2020 ob 20:00\n KJE: spletna aplikacija ZOOM\, spletno povezavo do predavanja boste prejeli na elektronski naslov s katerim ste se prijavili na spletno predavanje\n PRIJAVA V ČAKALNO VRSTO: shorturl.at/iwyHI\n\nVodena meditacija je način celostne in globinske sprostitve\, ki regenerira naše telo in umiri naš um. Meditacija\, ki jo sama prakticiram in vodim je osnovana na dviganju energijske vibracije s pomočjo govora. Tako se s pomočjo glasbe in vodene sprostitve popolnoma oddahnemo in sprostimo. Naučimo se spustiti kontrolo in izklapljati pretirano razmišljanje. Na svoj miselni tok lahko pogledamo iz distance in ga ozavestimo. \nPri tem nam ni treba upoštevati točno določenega položaja in natančnih navodil\, zato v tej meditaciji ne moremo delati nič narobe. Gre za enostaven in prijeten način sprostitve\, ki mu sama pravim spa za našo dušo\, ki nam kratkoročno prinese notranjo razbremenitev\, dolgoročno pa notranji mir\, več zavedanja in jasen um. Primeren je za tiste\, ki se prvič srečajo z meditacijo in tiste\, ki so tega že vajeni. Na ta način lahko meditiramo tudi sami doma\, sčasoma tudi brez vodstva. Najbolj priporočljiva je ob večerih po napornem dnevu ali zjutraj kot priprava na stresen dan. \n\nDODADTNE INFORMACIJE: nasi.pacienti@gmail.com\n\nSPONZORJI SPLETNEGA PREDAVANJA:\nPacienti Zdravstvene fakultete – ŠOZF\nŠtudentski svet Zdravstvene fakultete – ŠSZF\nŠtudentsko društvo Utrip\nResor za obštudijske dejavnosti ŠOU v Ljubljani\nŠtudentska organizacija Univerze v Ljubljani\nŠtudentski Kampus
URL:http://pacienti.si/dogodek/vodena-meditacija/
CATEGORIES:Delavnica,Izobraževanje,Spletno predavanje,Zdravje
ATTACH;FMTTYPE=image/jpeg:http://pacienti.si/wp-content/uploads/2020/11/Meditacija-scaled.jpg
ORGANIZER;CN="Pacienti%20Zdravstvene%20fakultete":MAILTO:nasi.pacienti@gmail.com
END:VEVENT
END:VCALENDAR