BEGIN:VCALENDAR
VERSION:2.0
PRODID:-//Pacienti - ECPv5.2.1//NONSGML v1.0//EN
CALSCALE:GREGORIAN
METHOD:PUBLISH
X-WR-CALNAME:Pacienti
X-ORIGINAL-URL:http://pacienti.si
X-WR-CALDESC:Events for Pacienti
BEGIN:VTIMEZONE
TZID:UTC
BEGIN:STANDARD
TZOFFSETFROM:+0000
TZOFFSETTO:+0000
TZNAME:UTC
DTSTART:20250101T000000
END:STANDARD
END:VTIMEZONE
BEGIN:VEVENT
DTSTART;VALUE=DATE:20250425
DTEND;VALUE=DATE:20250426
DTSTAMP:20260421T203914
CREATED:20250409T140654Z
LAST-MODIFIED:20250409T140654Z
UID:6423-1745539200-1745625599@pacienti.si
SUMMARY:Strokovna ekskurzija živilski obrat Hipp v Glini (Hrvaška) in obrat Cedevite v Zagrebu // 25. 4. 2025
DESCRIPTION:Vabilo na strokovno ekskurzijo v živilske obrate Hipp in Cedevita📅 Datum: 25. april 2025🚌 Lokacija: Glina (Hrvaška) in Zagreb (Hrvaška) \nV aprilu 2025 vas vabimo na edinstveno strokovno ekskurzijo v živilske obrate Hipp v Glini in Cedevitu v Zagrebu\, kjer bomo imeli priložnost videti sodobne proizvodne procese v dveh priznani živilski industriji. Obisk obeh obratov bo vodila strokovna ekipa\, kar bo odlična priložnost za pridobivanje dragocenih izkušenj in znanja. \n🌟 Zakaj se udeležiti? \n\n\nNepozabno strokovno doživetje: Ogled sodobnih živilsko-proizvodnih obratov. \n\n\nEdinstvena priložnost: Prvič možnost ogleda za mnoge študente\, ki tega še niso imeli priložnosti. \n\n\nPriložnost za izmenjavo izkušenj: Predavanje in pogovori s strokovnjaki s področja živilskih tehnologij. \n\n\n💼 Kdo se lahko pridruži?Ekskurzija je odprta za študente smeri sanitarno inženirstvo\, babištvo in zdravstvena nega\, pa tudi za druge smeri. Vabimo vse\, ki jih zanima poklicno raziskovanje in vpogled v živilsko produkcijske procese! \n💵 Cena udeležbe:Strošek udeležbe za prevoz z avtobusom znaša 30 €\, vključuje pa tudi malico/kosilo v Hipp-u. \n⏳ Omejeno število mest!Zaradi omejenega števila sedežev v avtobusu (50 mest) se prijavite čim prej! Če bo interes dovolj velik\, bomo ekskurzijo izvedli.Prijavite se preko obrazca tukaj: PRIJAVA! \nZa več informacij nas lahko kontaktirate na nasi.pacienti@gmail.com ali vid.vicic@zf.uni-lj.si
URL:http://pacienti.si/dogodek/strokovna-ekskurzija-zivilski-obrat-hipp-v-glini-hrvaska-in-obrat-cedevite-v-zagrebu-25-4-2025/
LOCATION:Hrvaška\, Hrvaška
ATTACH;FMTTYPE=image/png:http://pacienti.si/wp-content/uploads/2025/04/Cedevita_logo_page-0001.jpg__1749_1236__-_Opera_3._12._2023_17_21_56-removebg-preview.png
END:VEVENT
END:VCALENDAR