BEGIN:VCALENDAR
VERSION:2.0
PRODID:-//Pacienti - ECPv5.2.1//NONSGML v1.0//EN
CALSCALE:GREGORIAN
METHOD:PUBLISH
X-WR-CALNAME:Pacienti
X-ORIGINAL-URL:http://pacienti.si
X-WR-CALDESC:Events for Pacienti
BEGIN:VTIMEZONE
TZID:UTC
BEGIN:STANDARD
TZOFFSETFROM:+0000
TZOFFSETTO:+0000
TZNAME:UTC
DTSTART:20250101T000000
END:STANDARD
END:VTIMEZONE
BEGIN:VEVENT
DTSTART;VALUE=DATE:20250120
DTEND;VALUE=DATE:20250215
DTSTAMP:20260421T235323
CREATED:20250121T181617Z
LAST-MODIFIED:20250121T181638Z
UID:6305-1737331200-1739577599@pacienti.si
SUMMARY:SREČNO IZPITNO OBDOBJE
DESCRIPTION:𝑵𝙖𝒎𝙚𝒔𝙩𝒐 𝒃𝙤𝒈𝙖𝒔𝙩𝒗𝙖 𝙞𝒛𝙗𝒆𝙧𝒊 𝒛𝙣𝒂𝙣𝒋𝙚;\n𝒌𝙖𝒋𝙩𝒊 𝒃𝙤𝒈𝙖𝒔𝙩𝒗𝙤 𝙟𝒆 𝒑𝙧𝒆𝙝𝒐𝙙𝒏𝙤\, 𝒛𝙣𝒂𝙣𝒋𝙚 𝙥𝒂 𝒗𝙚𝒄̌𝙣𝒐.\n– 𝘚𝑜𝘬𝑟𝘢𝑡 \nJutri se začne zimsko izpitno obdobje\, pri katerem ti Pacienti Zdravstvene fakultete in Študentski svet Zdravstvene fakultete želimo veliko uspehov pri opravljanju izpitov! 🤞🏻 \nPred opravljanjem izpitov pa ne pozabi: ⬇️ \n❋ pobrskati po 𝗣𝗔𝗖𝗜𝗘𝗡𝗧𝗜𝗞𝗟𝗢𝗣𝗘𝗗𝗜𝗝𝗜 – največji bazi zapiskov\, ki jo najdeš na spletni strani Pacienti.si; \n❋ na izpit se lahko prijaviš 14 dni pred razpisanim izpitnim rokom in najmanj 5 pred razpisanim izpitnim rokom do 23.59 ure preko sistema VIS; \n❋ od izpita se lahko odjaviš dan pred izpitom do 12.00 ure preko sistema VIS. \nIzpitno obdobje vzamite kot priložnost\, da pokažete svoje znanje\, vztrajnost in predanost študiju in vašim sanjam. Verjemite vase\, saj je vsak vložen trud korak bližje vašim sanjam! ❤️ \nSrečno! 🤞🏼🍀
URL:http://pacienti.si/dogodek/srecno-izpitno-obdobje/
ATTACH;FMTTYPE=image/jpeg:http://pacienti.si/wp-content/uploads/2025/01/Posnetek-zaslona-2025-01-21-191205.jpg
END:VEVENT
END:VCALENDAR