BEGIN:VCALENDAR
VERSION:2.0
PRODID:-//Pacienti - ECPv5.2.1//NONSGML v1.0//EN
CALSCALE:GREGORIAN
METHOD:PUBLISH
X-WR-CALNAME:Pacienti
X-ORIGINAL-URL:http://pacienti.si
X-WR-CALDESC:Events for Pacienti
BEGIN:VTIMEZONE
TZID:UTC
BEGIN:STANDARD
TZOFFSETFROM:+0000
TZOFFSETTO:+0000
TZNAME:UTC
DTSTART:20190101T000000
END:STANDARD
END:VTIMEZONE
BEGIN:VEVENT
DTSTART;VALUE=DATE:20190930
DTEND;VALUE=DATE:20191001
DTSTAMP:20260422T113323
CREATED:20201106T105218Z
LAST-MODIFIED:20201106T105218Z
UID:4029-1569801600-1569887999@pacienti.si
SUMMARY:Sprejem brucev 2019
DESCRIPTION:Kot vsako leto smo na fakulteto sprejeli približno 400 brucev. Zaželeli smo jim dobrodošlico \, jim predali nekaj koristnih nasvetov in za njih pripravili darila. \nVeč pa si lahko pogledaš v naši GALERIJI.
URL:http://pacienti.si/dogodek/sprejem-brucev-2019/
CATEGORIES:Izobraževanje
ATTACH;FMTTYPE=image/jpeg:http://pacienti.si/wp-content/uploads/2020/11/72424779_2695577910463210_337925282365177856_n-1.jpg
ORGANIZER;CN="Pacienti%20Zdravstvene%20fakultete":MAILTO:nasi.pacienti@gmail.com
END:VEVENT
END:VCALENDAR