BEGIN:VCALENDAR
VERSION:2.0
PRODID:-//Pacienti - ECPv5.2.1//NONSGML v1.0//EN
CALSCALE:GREGORIAN
METHOD:PUBLISH
X-WR-CALNAME:Pacienti
X-ORIGINAL-URL:http://pacienti.si
X-WR-CALDESC:Events for Pacienti
BEGIN:VTIMEZONE
TZID:UTC
BEGIN:STANDARD
TZOFFSETFROM:+0000
TZOFFSETTO:+0000
TZNAME:UTC
DTSTART:20250101T000000
END:STANDARD
END:VTIMEZONE
BEGIN:VEVENT
DTSTART;TZID=UTC:20251022T210000
DTEND;TZID=UTC:20251022T230000
DTSTAMP:20260422T011252
CREATED:20251020T222315Z
LAST-MODIFIED:20251020T222315Z
UID:6853-1761166800-1761174000@pacienti.si
SUMMARY:ŠPORTNA REKREACIJA V DVORANI
DESCRIPTION:To 𝘀𝗿𝗲𝗱𝗼\, 𝟮𝟮. 𝗼𝗸𝘁𝗼𝗯𝗿𝗮 vas Pacienti Zdravstvene fakultete vabimo na 𝗦𝗣𝗢𝗥𝗧𝗡𝗢 𝗥𝗘𝗞𝗥𝗘𝗔𝗖𝗜𝗝𝗢 v @bazasporta (Pesarska cesta 12\, Ljubljana)\, kjer se bomo ob dobri družbi pomerili v: ⬇️ \n– 𝗡𝗢𝗚𝗢𝗠𝗘𝗧𝗨 ⚽️;\n– 𝗢𝗗𝗕𝗢𝗝𝗞𝗜 🏐;\n– 𝗞𝗢𝗦̌𝗔𝗥𝗞𝗜 🏀. \n📬 𝗣𝗥𝗜𝗝𝗔𝗩𝗘: https://forms.gle/gdLMCGXHjy5VRbVSA \nℹ️ 𝗗𝗼𝗱𝗮𝘁𝗻𝗲 𝗶𝗻𝗳𝗼𝗿𝗺𝗮𝗰𝗶𝗷𝗲: info@pacienti.si
URL:http://pacienti.si/dogodek/sportna-rekreacija-v-dvorani/
ATTACH;FMTTYPE=image/jpeg:http://pacienti.si/wp-content/uploads/2025/10/Bowling-night.jpg
ORGANIZER;CN="Pacienti%20Zdravstvene%20fakultete":MAILTO:nasi.pacienti@gmail.com
END:VEVENT
END:VCALENDAR