BEGIN:VCALENDAR
VERSION:2.0
PRODID:-//Pacienti - ECPv5.2.1//NONSGML v1.0//EN
CALSCALE:GREGORIAN
METHOD:PUBLISH
X-WR-CALNAME:Pacienti
X-ORIGINAL-URL:http://pacienti.si
X-WR-CALDESC:Events for Pacienti
BEGIN:VTIMEZONE
TZID:UTC
BEGIN:STANDARD
TZOFFSETFROM:+0000
TZOFFSETTO:+0000
TZNAME:UTC
DTSTART:20180101T000000
END:STANDARD
END:VTIMEZONE
BEGIN:VEVENT
DTSTART;VALUE=DATE:20181128
DTEND;VALUE=DATE:20181130
DTSTAMP:20260423T001052
CREATED:20200925T203140Z
LAST-MODIFIED:20201030T195310Z
UID:1991-1543363200-1543535999@pacienti.si
SUMMARY:Soba pobega
DESCRIPTION:Escape coin je soba pobega locirana na Študentskem kampusu. Soba pobega je prostor poln različnih nalog in ugank\, zasnovana pa je tako\, da morajo udeleženci oziroma igralci med seboj sodelovati\, se povezovati in uporabljati sposobnosti logičnega sklepanja\, z namenom da pobegnejo oziroma se rešijo iz sobe. Na voljo je bilo 10 terminov\, razporejenih v 2 dneh. Na en termin se je lahko prijavila ena ekipa s 3 do 5 študentov\, kateri so nato obiskali sobo študenta Leona in doživeli 60 minut nepozabne zabave ob premagovanju številnih lahkih in težkih izzivov. Uspeli so razbrati njegove namige\, razbiti kode in rešiti njegove uganke ter tako oditi iz sobe.
URL:http://pacienti.si/dogodek/soba-pobega/
LOCATION:Študentski kampus\, Pivovariniška ulica 6\, Ljubljana\, 1000\, Slovenija
CATEGORIES:Zabava
ATTACH;FMTTYPE=image/jpeg:http://pacienti.si/wp-content/uploads/2020/09/45710566_2170620186334679_8428934276870832128_o.jpg
ORGANIZER;CN="Pacienti%20Zdravstvene%20fakultete":MAILTO:nasi.pacienti@gmail.com
END:VEVENT
END:VCALENDAR