BEGIN:VCALENDAR
VERSION:2.0
PRODID:-//Pacienti - ECPv5.2.1//NONSGML v1.0//EN
CALSCALE:GREGORIAN
METHOD:PUBLISH
X-WR-CALNAME:Pacienti
X-ORIGINAL-URL:http://pacienti.si
X-WR-CALDESC:Events for Pacienti
BEGIN:VTIMEZONE
TZID:UTC
BEGIN:STANDARD
TZOFFSETFROM:+0000
TZOFFSETTO:+0000
TZNAME:UTC
DTSTART:20190101T000000
END:STANDARD
END:VTIMEZONE
BEGIN:VEVENT
DTSTART;VALUE=DATE:20190528
DTEND;VALUE=DATE:20190529
DTSTAMP:20260422T143500
CREATED:20201030T203319Z
LAST-MODIFIED:20201030T204515Z
UID:3188-1559001600-1559087999@pacienti.si
SUMMARY:Sekiromet s Pacienti
DESCRIPTION:Zakaj bi igrali pikado ali pa metali žogice v tarčo\, če pa lahko mečemo sekire. Sekiromet navdušuje še tako zahtevne adrenalinske študente. Pacienti smo v maju organizirali dogodek Sekiromet s Pacienti\, na katerem se je zbralo 20 tekmovalcev. Najprej je sledila kratka šola metanja sekir\, v kateri so se študentje poučili o varnosti in tehniki metanja\, nato pa so sledile različne zabavne igre\, v katerih so tekmovalci uživali in se veselili vsakega zadetka v center. Udeleženci so uživali v metu sekire in tistih posebnih občutkih\, ko se vržena sekira zapiči v mehak les v centru tarče. Na koncu so se igralcem podelile diplome\, najboljši metalec sekire pa je dobil novo sekiro. Seveda pa ni primanjkovalo tudi pijače in domačih dobrot serviranih na posebej pripravljenih gozdarskih dilah.
URL:http://pacienti.si/dogodek/sekiromet-s-pacienti/
LOCATION:Sekiromet\, Kajuhova 35\, Ljubljana\, 1000\, Slovenija
CATEGORIES:Šport
ATTACH;FMTTYPE=image/jpeg:http://pacienti.si/wp-content/uploads/2020/10/60342817_2460964647300230_2507511587984637952_n.jpg
ORGANIZER;CN="Pacienti%20Zdravstvene%20fakultete":MAILTO:nasi.pacienti@gmail.com
END:VEVENT
END:VCALENDAR