BEGIN:VCALENDAR
VERSION:2.0
PRODID:-//Pacienti - ECPv5.2.1//NONSGML v1.0//EN
CALSCALE:GREGORIAN
METHOD:PUBLISH
X-WR-CALNAME:Pacienti
X-ORIGINAL-URL:http://pacienti.si
X-WR-CALDESC:Events for Pacienti
BEGIN:VTIMEZONE
TZID:UTC
BEGIN:STANDARD
TZOFFSETFROM:+0000
TZOFFSETTO:+0000
TZNAME:UTC
DTSTART:20210101T000000
END:STANDARD
END:VTIMEZONE
BEGIN:VEVENT
DTSTART;TZID=UTC:20210224T190000
DTEND;TZID=UTC:20210224T200000
DTSTAMP:20260421T185643
CREATED:20210224T202253Z
LAST-MODIFIED:20210225T110143Z
UID:4706-1614193200-1614196800@pacienti.si
SUMMARY:Še vedno vozim - vendar ne hodim!
DESCRIPTION:Pogosto se sprašujemo\, kaj privede voznika do tega\, da vozi s preveliko hitrostjo\, da je za volanom premalo zbran\, preveč agresiven ali morda celo vinjen. Podobno velja tudi za ostale udeležence v prometu\, saj so tudi oni velikokrat povzročitelji prometnih nesreč. Najrazličnejši statistični podatki o prometnih nesrečah\, ki jih lahko najdemo v mnogih uradnih dokumentih\, sicer podajajo vzroke za nastanek prometne nesreče\, vendar so ti vzroki v bistvu neposredni ali primarni. Prav nič pa ne povedo o tem\, kaj je povzročitelja prometne nesreče dejansko privedlo do tega (posredni vzrok)\, da je storil dejanje\, ki je bilo opredeljeno kot dejanje\, ki je povzročilo prometno nesrečo.\nZato smo študentska organizacija Zdravstvene fakultete – PACIENTI v sodelovanju z Zavodom Vozim\, ki danes deluje na področju preventive v prometu in alkoholu ter psihoaktivnih snovi (PAS)\, mladinskega dela in socialne integracije oseb z manj priložnostmi\, za vas pripravili predavanje z naslovom:\n\n»Še vedno vozim – vendar ne hodim!«\n\nDelavnica poteka na osnovi podajanja osebne zgodbe gospoda Vladimirja Peterlina\, poškodovanca v prometni nesreči\, ki bo skozi lastno izkušnjo podal neposredne informacije o pomenu varne vožnje\, upoštevanju cestnoprometnih predpisov ter varnih življenjskih odločitev.\n\nSPONZORJI SPLETNEGA PREDAVANJA:\nPacienti Zdravstvene fakultete – ŠOZF\nŠtudentski svet Zdravstvene fakultete – ŠSZF\nŠtudentsko društvo Utrip\nZavod Vozim\nResor za obštudijske dejavnosti ŠOU v Ljubljani\nŠtudentska organizacija Univerze v Ljubljani\nŠtudentski Kampus
URL:http://pacienti.si/dogodek/se-vedno-vozim-vendar-ne-hodim/
LOCATION:spletna aplikacija ZOOM
CATEGORIES:Delavnica
ATTACH;FMTTYPE=image/png:http://pacienti.si/wp-content/uploads/2021/02/Se-vedno-vozim-vendar-ne-hodim-2021.png
ORGANIZER;CN="Pacienti%20Zdravstvene%20fakultete":MAILTO:nasi.pacienti@gmail.com
END:VEVENT
END:VCALENDAR