BEGIN:VCALENDAR
VERSION:2.0
PRODID:-//Pacienti - ECPv5.2.1//NONSGML v1.0//EN
CALSCALE:GREGORIAN
METHOD:PUBLISH
X-WR-CALNAME:Pacienti
X-ORIGINAL-URL:http://pacienti.si
X-WR-CALDESC:Events for Pacienti
BEGIN:VTIMEZONE
TZID:UTC
BEGIN:STANDARD
TZOFFSETFROM:+0000
TZOFFSETTO:+0000
TZNAME:UTC
DTSTART:20200101T000000
END:STANDARD
END:VTIMEZONE
BEGIN:VEVENT
DTSTART;TZID=UTC:20201126T193000
DTEND;TZID=UTC:20201126T203000
DTSTAMP:20260421T233239
CREATED:20201119T192003Z
LAST-MODIFIED:20201128T095342Z
UID:4582-1606419000-1606422600@pacienti.si
SUMMARY:Reanimacija Covid-19 pacienta v predbolnišničnem okolju
DESCRIPTION:PACIENTI smo v sodelovanju z Zdravstvenim domom Kočevje pripravili spletno delavnico z naslovom Reanimacija Covid-19 pacienta v predbolnišničnem okolju.\nDogodka\, ki je bil brezplačen se je udeležilo 260 študentov.\n\nNa delavnico smo na praktičnih primerih\, s pomočjo že vnaprej pripravljenih video vsebin prikazali kako obravnavamo pacienta\, v času epidemije Covid-19. Spoznali smo prenovljene pristope do pacientov v primeru srčnega zastoja za laike in profesionalce. Prav tako smo prikazali oskrbo dihalne poti pri teh pacientih in povedali nekaj o delu reševalnih služb ter organizacijo dela v času epidemije.\n\nSpletno delavnico je odlično vodil Primož Velikonja\, dipl.zn.\, ERC ALS\, EPALS inštruktor in pomočnik direktorice ZD Kočevje ter vodja tamkajšnje reševalne službe.
URL:http://pacienti.si/dogodek/reanimacija-covid-19-pacienta-v-predbolnisnicnem-okolju/
CATEGORIES:Izobraževanje,Spletno predavanje,Zdravje
ATTACH;FMTTYPE=image/png:http://pacienti.si/wp-content/uploads/2020/11/Reanimacija-COVID-19-pacienta.png
END:VEVENT
END:VCALENDAR