BEGIN:VCALENDAR
VERSION:2.0
PRODID:-//Pacienti - ECPv5.2.1//NONSGML v1.0//EN
CALSCALE:GREGORIAN
METHOD:PUBLISH
X-WR-CALNAME:Pacienti
X-ORIGINAL-URL:http://pacienti.si
X-WR-CALDESC:Events for Pacienti
BEGIN:VTIMEZONE
TZID:UTC
BEGIN:STANDARD
TZOFFSETFROM:+0000
TZOFFSETTO:+0000
TZNAME:UTC
DTSTART:20200101T000000
END:STANDARD
END:VTIMEZONE
BEGIN:VEVENT
DTSTART;VALUE=DATE:20200626
DTEND;VALUE=DATE:20200627
DTSTAMP:20260422T063603
CREATED:20201106T093123Z
LAST-MODIFIED:20201106T093123Z
UID:4004-1593129600-1593215999@pacienti.si
SUMMARY:Radiološki piknik 2020
DESCRIPTION:Študentje Radiološke tehnologije so 26. junija priredili že 21. tradicionalni radiološki piknik! Piknik je potekal na Študentskem Kampusu v popoldanskih urah in se zavlekel pozno v noč. 120 študentov Radiološke tehnologije in nekaj zaposlenih so se družili ob dobri hrani ter številnih športnih in družabnih igrah ob dobri glasbi DJ-a. \nTradicionalno so se tudi tokrat odvijale igre med študenti 1.\, 2. in 3. letnika\, kjer so se borili za prestižen ključ\, ki se prenaša med generacijami. Tudi v letošnjem letu so se zanj najboljše borili študentje 2. letnika\, ki ga bodo imeli v lasti eno leto. \nVeč utrinkov pa vam je dostopnih v naši GALERIJI.
URL:http://pacienti.si/dogodek/radioloski-piknik-2020/
LOCATION:Študentski kampus\, Pivovariniška ulica 6\, Ljubljana\, 1000\, Slovenija
CATEGORIES:Zabava
ATTACH;FMTTYPE=image/jpeg:http://pacienti.si/wp-content/uploads/2020/11/104348638_10216811973802722_3296309572114932110_n.jpg
ORGANIZER;CN="Pacienti%20Zdravstvene%20fakultete":MAILTO:nasi.pacienti@gmail.com
END:VEVENT
END:VCALENDAR