BEGIN:VCALENDAR
VERSION:2.0
PRODID:-//Pacienti - ECPv5.2.1//NONSGML v1.0//EN
CALSCALE:GREGORIAN
METHOD:PUBLISH
X-WR-CALNAME:Pacienti
X-ORIGINAL-URL:http://pacienti.si
X-WR-CALDESC:Events for Pacienti
BEGIN:VTIMEZONE
TZID:UTC
BEGIN:STANDARD
TZOFFSETFROM:+0000
TZOFFSETTO:+0000
TZNAME:UTC
DTSTART:20210101T000000
END:STANDARD
END:VTIMEZONE
BEGIN:VEVENT
DTSTART;TZID=UTC:20210303T193000
DTEND;TZID=UTC:20210303T210000
DTSTAMP:20260421T204932
CREATED:20210225T130119Z
LAST-MODIFIED:20210225T130119Z
UID:4715-1614799800-1614805200@pacienti.si
SUMMARY:Predstavitev sistema za avtomatsko citiranje - Mendeley
DESCRIPTION:Pacienti v sodelovanju z Društvom radioloških inženirjev Slovenije pripravljamo zanimivo delavnico z naslovom Predstavitev sistema za avtomatsko citiranje – Mendeley. Omenjen sistem nam bo podrobneje predstavil doc. dr. Nejc Mekiš.\n\nNa delavnici se bomo seznanili z eno izmed programskih oprem\, ki nam omogoča upravljanje s PDF datotekami in avtomatsko urejanje referenc. Pogledali si bomo osnovne funkcionalnosti programa\, vnos datotek (referenc v sam sistem)\, urejanje datotek\, pregledovalnik PDF datotek v samem programu\, deljenje svojih virov\, vstavljanje referenc v sam članek ter pogledali\, kako se poišče in spremeni stile citiranja.\n\nDelavnica je zelo aktualna saj se na Zdravstveni fakulteti pripravlja sprememba stila citiranja\, ki bo omogočala uporabo programov za avtomatsko citiranje in je to dobra priložnost za seznanitev z enim izmed programov. \n\n Predavanje je za vse udeležence BREZPLAČNO\, potrebna je le predhodna prijava.  \n\nKDAJ? 3.3.2021 ob 19.30\nKJE? Spletna aplikacija ZOOM\, spletno povezavo do predavanja boste prejeli na elektronski naslov s katerim ste se prijavili na spletno predavanje.\n\nPRIJAVA: https://forms.gle/dLjkHmu43Q7qizBh8\n\nDODATNE INFORMACIJE: info@pacienti.si\n\nSPONZORJI SPLETNEGA PREDAVANJA:\nPacienti Zdravstvene fakultete – ŠOZF\nŠtudentski svet Zdravstvene fakultete – ŠSZF\nŠtudentsko društvo Utrip\nResor za obštudijske dejavnosti ŠOU v Ljubljani\nZdravstvena fakulteta\nDruštvo radioloških inženirjev Slovenije – DRI\nŠtudentski Kampus
URL:http://pacienti.si/dogodek/predstavitev-sistema-za-avtomatsko-citiranje-mendeley/
LOCATION:spletna aplikacija ZOOM
CATEGORIES:Spletno predavanje
ATTACH;FMTTYPE=image/jpeg:http://pacienti.si/wp-content/uploads/2021/02/154426298_4055931814470164_7853814548941560569_o.jpg
ORGANIZER;CN="Pacienti%20Zdravstvene%20fakultete":MAILTO:nasi.pacienti@gmail.com
END:VEVENT
END:VCALENDAR