BEGIN:VCALENDAR
VERSION:2.0
PRODID:-//Pacienti - ECPv5.2.1//NONSGML v1.0//EN
CALSCALE:GREGORIAN
METHOD:PUBLISH
X-WR-CALNAME:Pacienti
X-ORIGINAL-URL:http://pacienti.si
X-WR-CALDESC:Events for Pacienti
BEGIN:VTIMEZONE
TZID:UTC
BEGIN:STANDARD
TZOFFSETFROM:+0000
TZOFFSETTO:+0000
TZNAME:UTC
DTSTART:20250101T000000
END:STANDARD
END:VTIMEZONE
BEGIN:VEVENT
DTSTART;TZID=UTC:20250410T181500
DTEND;TZID=UTC:20250410T193000
DTSTAMP:20260421T190326
CREATED:20250401T184714Z
LAST-MODIFIED:20250401T185115Z
UID:6414-1744308900-1744313400@pacienti.si
SUMMARY:Predstavitev sistema za avtomatsko citiranje – Mendeley // 10. 4.
DESCRIPTION:Študentska organizacija Zdravstvene fakultete – Pacienti vas vabi na brezplačno strokovno delavnico z naslovom Predstavitev sistema za avtomatsko citiranje – Mendeley. \nV današnjem akademskem okolju je pravilno citiranje virov ključnega pomena\, zato bomo na delavnici spoznali enega izmed najbolj priljubljenih orodij za avtomatsko citiranje – Mendeley. Gre za programsko opremo\, ki omogoča enostavno upravljanje s PDF datotekami\, avtomatsko urejanje referenc ter učinkovito organizacijo virov pri pisanju seminarskih\, raziskovalnih in zaključnih del. \nNa delavnici nas bo vodil izr. prof. dr. Nejc Mekiš\, ki bo predstavil: \n✅ osnovne funkcionalnosti programa Mendeley\,\n✅ vnos in urejanje referenc\,\n✅ pregledovalnik PDF datotek v programu\,\n✅ deljenje in organizacijo virov\,\n✅ vstavljanje referenc v članke\,\n✅ iskanje in prilagajanje stilov citiranja. \nDogodek je še posebej pomemben za študente in študentke Zdravstvene fakultete\, ki želite izboljšati svoje akademsko pisanje in se naučiti učinkovite uporabe Mendeleya. \n📅 Datum in ura: četrtek\, 10. april 2025 ob 18:15\n📍Lokacija: računalniška učilnica P211\, Zdravstvena fakulteta\n🖥️ Praktično delo: Udeleženci bodo imeli dostop do računalnikov za interaktivno preizkušanje programa. \nPRIJAVE: https://forms.gle/nEM8xShfJqY8tFAm8 \nPrijave so obvezne\, saj je število mest omejeno zaradi kapacitet računalniške učilnice. Prijavite se lahko preko spodnjega obrazca do 8. aprila 2025 oziroma do zapolnitve prostih mest. \nUdeleženci si morajo pred delavnico brezplačno ustvariti račun Mendeley. S seboj lahko prinesejo svoje računalnike. \nNe zamudite priložnosti za pridobitev koristnega znanja\, ki vam bo olajšalo akademsko pisanje in skrb za pravilno citiranje virov! \nZa dodatne informacije nam lahko pišete na info@pacienti.si ali nas kontaktirate preko družbenih omrežij. \nVeselimo se vaše udeležbe! 😊 \nDodatne informacije: info@pacienti.si \nDelavnico bodo omogočili:\n– Pacienti Zdravstvene fakultete – ŠOZF\n– Študentski svet Zdravstvene fakultete – ŠSZF\n– Študentsko društvo Utrip\n– Športno društvo Zdravstvene fakultete\n– Študentska organizacija Univerze v Ljubljani
URL:http://pacienti.si/dogodek/predstavitev-sistema-za-avtomatsko-citiranje-mendeley-10-4/
LOCATION:Zdravstvena fakulteta
CATEGORIES:Delavnica,Izobraževanje
ATTACH;FMTTYPE=image/png:http://pacienti.si/wp-content/uploads/2025/04/Izdelek-brez-naslova-6.png
ORGANIZER;CN="Pacienti%20Zdravstvene%20fakultete":MAILTO:nasi.pacienti@gmail.com
END:VEVENT
END:VCALENDAR