BEGIN:VCALENDAR
VERSION:2.0
PRODID:-//Pacienti - ECPv5.2.1//NONSGML v1.0//EN
CALSCALE:GREGORIAN
METHOD:PUBLISH
X-WR-CALNAME:Pacienti
X-ORIGINAL-URL:http://pacienti.si
X-WR-CALDESC:Events for Pacienti
BEGIN:VTIMEZONE
TZID:UTC
BEGIN:STANDARD
TZOFFSETFROM:+0000
TZOFFSETTO:+0000
TZNAME:UTC
DTSTART:20250101T000000
END:STANDARD
END:VTIMEZONE
BEGIN:VEVENT
DTSTART;VALUE=DATE:20250521
DTEND;VALUE=DATE:20250701
DTSTAMP:20260421T215840
CREATED:20250521T123713Z
LAST-MODIFIED:20250521T123748Z
UID:6581-1747785600-1751327999@pacienti.si
SUMMARY:Podaljšan razpis za študentsko tutorstvo 2025/2026
DESCRIPTION:Po sklepu Komisije za tutorstvo je razpis za študentsko tutorstvo podaljšan in sicer na študijskih programih:DT: 3 mesta – možnost prijave na izbirni predmet za študente tretjega letnika\,LZP: 1 mesto – možnost prijave na izbirni predmet za študente tretjega letnika\,OP: 2 mesti – možnost prijave na izbirni predmet za študente drugega in tretjega letnika\,ZN: 1 mesto – možnost prijave na izbirni predmet za študente drugega in tretjega letnika\,FT II. stopnja: 1 mesto – možnost prijave na izbirni predmet za študente drugega letnika\,ZN II. stopnja: 1 mesto – možnost prijave na izbirni predmet za študente drugega letnika.Kandidati za mesto tutorja študenta naj pisne vloge (skeniran izpolnjen obrazec z morebitnimi dokazili o izpolnjevanju pogojev in motivacijskim pismom) oddajo elektronsko na e-naslov irena.smrkolj@zf.uni-lj.si. V Zadevi e-sporočila naj bo zapisano “Prijava – Študentsko tutorstvo 2025/26”.Razpis je podaljšan do zapolnitve prostih mest.\n 
URL:http://pacienti.si/dogodek/podaljsan-razpis-za-studentsko-tutorstvo-2025-2026/
LOCATION:Zdravstvena fakulteta
ATTACH;FMTTYPE=image/jpeg:http://pacienti.si/wp-content/uploads/2025/05/IMG_0594-scaled.jpeg
ORGANIZER;CN="Pacienti%20Zdravstvene%20fakultete":MAILTO:nasi.pacienti@gmail.com
END:VEVENT
END:VCALENDAR