BEGIN:VCALENDAR
VERSION:2.0
PRODID:-//Pacienti - ECPv5.2.1//NONSGML v1.0//EN
CALSCALE:GREGORIAN
METHOD:PUBLISH
X-WR-CALNAME:Pacienti
X-ORIGINAL-URL:http://pacienti.si
X-WR-CALDESC:Events for Pacienti
BEGIN:VTIMEZONE
TZID:UTC
BEGIN:STANDARD
TZOFFSETFROM:+0000
TZOFFSETTO:+0000
TZNAME:UTC
DTSTART:20210101T000000
END:STANDARD
END:VTIMEZONE
BEGIN:VEVENT
DTSTART;TZID=UTC:20210318T193000
DTEND;TZID=UTC:20210318T210000
DTSTAMP:20260421T190228
CREATED:20210312T194040Z
LAST-MODIFIED:20210312T194040Z
UID:4725-1616095800-1616101200@pacienti.si
SUMMARY:Osnovni tečaj fotografiranja
DESCRIPTION:Bi se rad izboljšal v fotografiranju in urejanju fotografij\nPrijavi se na naslednjem obrazcu in uspelo ti bo: https://forms.gle/za4MJ2PKBfHudkgS9\n\nNa tečaju bomo na kratko pregledali trenutno tehnologijo fotoaparatov in pogledali različne »programe« za fotografiranje\, ki nam jih ponujajo fotoaparati. Podrobneje si bomo pogledali tri osnovne fotografske parametre in sicer zaslonko\, čas osvetlitve in občutljivost slikovnega sprejemnika (ISO). Govorili bomo tudi o globinski ostrini\, merjenju svetlobe\, ostrenju fotoaparata in na kratko pogledali različne kompozicije v fotografiji. \n\nPredaval bo doc. dr. Nejc Mekiš\, ki se s koncertno in športno fotografijo profesionalno ukvarja že več let\, ima pa tudi nekaj izkušenj iz fotografiranja dogodkov\, porok in portretov. \n\n\nZa več informacij o njegovem delu\, si lahko ogledate njegovo spletno stran na povezavi https://nmekis.wixsite.com/home in na FBju na povezavi \nhttps://www.facebook.com/NejcMekisphoto/\n\nZagotavljamo vam\, da boste na delavnici izvedeli veliko novih stvari in se naučili ustvarjati še bolj kvalitetne slike.\n\nKDAJ: 18. 3. 2021 ob 19:30\nKJE: spletna aplikacija ZOOM\, spletno povezavo do predavanja boste prejeli na elektronski naslov s\nkaterim ste se prijavili na spletno predavanje.\n\nPRIJAVA: https://forms.gle/za4MJ2PKBfHudkgS9\n\nVeč info: obstudijske.dejavnosti@sou-lj.si
URL:http://pacienti.si/dogodek/osnovni-tecaj-fotografiranja/
LOCATION:spletna aplikacija ZOOM
CATEGORIES:Delavnica
ATTACH;FMTTYPE=image/jpeg:http://pacienti.si/wp-content/uploads/2021/03/159285356_3827338564018147_581423109031226332_o.jpg
ORGANIZER;CN="Pacienti%20Zdravstvene%20fakultete":MAILTO:nasi.pacienti@gmail.com
END:VEVENT
END:VCALENDAR