BEGIN:VCALENDAR
VERSION:2.0
PRODID:-//Pacienti - ECPv5.2.1//NONSGML v1.0//EN
CALSCALE:GREGORIAN
METHOD:PUBLISH
X-WR-CALNAME:Pacienti
X-ORIGINAL-URL:http://pacienti.si
X-WR-CALDESC:Events for Pacienti
BEGIN:VTIMEZONE
TZID:UTC
BEGIN:STANDARD
TZOFFSETFROM:+0000
TZOFFSETTO:+0000
TZNAME:UTC
DTSTART:20210101T000000
END:STANDARD
END:VTIMEZONE
BEGIN:VEVENT
DTSTART;TZID=UTC:20210422T200000
DTEND;TZID=UTC:20210422T220000
DTSTAMP:20260421T203731
CREATED:20210419T134603Z
LAST-MODIFIED:20210419T134603Z
UID:4747-1619121600-1619128800@pacienti.si
SUMMARY:Okrevanje po poškodbi meniskusa
DESCRIPTION:PRIJAVA: https://forms.gle/2Q2oyanhfVbUQ7997\n\nŠtudentska organizacija Zdravstvene fakultete- Pacienti smo v sodelovanju s podjetjem KinVital\, kjer se ukvarjajo z rehabilitacijami različnih poškodb\, vadbenimi programi\, masažami in teki\, za vas pripravili predavanje z naslovom:\n»Okrevanje po poškodbi meniskusa«.\nNa predavanju si bomo pogledali kateri so glavni dejavniki tveganja za same poškodbe in kako le te čim bolj zmanjšati. Govora bo tudi o pomenu pravilni gibalnih vzorcev pri preprečevanju poškodb in tudi njihov pomen v sami rehabilitaciji. Tako bomo preučili podrobno valgus in varus položaj in njihov vpliv na obremenjevanje meniskusa.\nSkozi praktične primere pa si bomo tudi pogledali kako različne vrste poškodb meniskusa vplivajo na sam potek rehabilitacije in njegovega obremenjevanja.\n\nPredavanje bo izvedel g. Luka Hren\, dipl. kin. (diplomant kineziologije)\, ki je tudi idejni vodja podjetja KinVital\, voditelj skupinskih\, tekaških in terapevtskih vadb\, osebni trener\, ultramaratonec in avtor strokovnih in poljudnih člankov.\n\nDogodek je za vse udeležence BREZPLAČEN\, potrebna je zgolj predhodna prijava.\n\nKDAJ: 22. 4. 2021 ob 20.00\nKJE: spletna aplikacija ZOOM\, spletno povezavo do predavanja boste prejeli na elektronski naslov s katerim ste se prijavili na spletno predavanje.\n\nPRIJAVA: https://forms.gle/2Q2oyanhfVbUQ7997\n\nDODATNE INFORMACIJE: info@pacienti.si\nSPONZORJI SPLETNEGA PREDAVANJA:\nPacienti Zdravstvene fakultete- ŠOZF\nŠtudentski svet Zdravstvene fakultete- ŠSZF\nŠtudentsko društvo Utrip\nKinVital\nResor za obštudijske dejavnosti ŠOU v Ljubljani\nŠtudentska organizacija Univerze v Ljubljani\nŠtudentski Kampus
URL:http://pacienti.si/dogodek/okrevanje-po-poskodbi-meniskusa/
LOCATION:spletna aplikacija ZOOM
CATEGORIES:Zdravje
ATTACH;FMTTYPE=image/jpeg:http://pacienti.si/wp-content/uploads/2021/04/173766359_4207870819276262_5244908536220081881_n.jpg
ORGANIZER;CN="Pacienti%20Zdravstvene%20fakultete":MAILTO:nasi.pacienti@gmail.com
END:VEVENT
END:VCALENDAR