BEGIN:VCALENDAR
VERSION:2.0
PRODID:-//Pacienti - ECPv5.2.1//NONSGML v1.0//EN
CALSCALE:GREGORIAN
METHOD:PUBLISH
X-WR-CALNAME:Pacienti
X-ORIGINAL-URL:http://pacienti.si
X-WR-CALDESC:Events for Pacienti
BEGIN:VTIMEZONE
TZID:UTC
BEGIN:STANDARD
TZOFFSETFROM:+0000
TZOFFSETTO:+0000
TZNAME:UTC
DTSTART:20250101T000000
END:STANDARD
END:VTIMEZONE
BEGIN:VEVENT
DTSTART;VALUE=DATE:20250701
DTEND;VALUE=DATE:20250819
DTSTAMP:20260422T011210
CREATED:20250701T204913Z
LAST-MODIFIED:20250701T204946Z
UID:6641-1751328000-1755561599@pacienti.si
SUMMARY:ODPRTE PRIJAVE ZA SPREJEM IN PODALJŠANJE BIVANJA ŠTUDENTOV 2025/26
DESCRIPTION:Objavljen je 𝗥𝗮𝘇𝗽𝗶𝘀 𝘇𝗮 𝘀𝗽𝗿𝗲𝗷𝗲𝗺 𝗶𝗻 𝗽𝗼𝗱𝗮𝗹𝗷𝘀̌𝗮𝗻𝗷𝗲 𝗯𝗶𝘃𝗮𝗻𝗷𝗮 𝘀̌𝘁𝘂𝗱𝗲𝗻𝘁𝗼𝘃 𝘃𝗶𝘀̌𝗷𝗲𝘀̌𝗼𝗹𝘀𝗸𝗲𝗴𝗮 𝗶𝗻 𝘃𝗶𝘀𝗼𝗸𝗼𝘀̌𝗼𝗹𝘀𝗸𝗲𝗴𝗮 𝘀̌𝘁𝘂𝗱𝗶𝗷𝗮 𝘃 𝘀̌𝘁𝘂𝗱𝗲𝗻𝘁𝘀𝗸𝗶𝗵 𝗱𝗼𝗺𝗼𝘃𝗶𝗵 𝗶𝗻 𝗽𝗿𝗶 𝘇𝗮𝘀𝗲𝗯𝗻𝗶𝗸𝗶𝗵 𝘇𝗮 𝘀̌𝘁𝘂𝗱𝗶𝗷𝘀𝗸𝗼 𝗹𝗲𝘁𝗼 𝟮𝟬𝟮𝟱/𝟮𝟬𝟮𝟲. \n📬 𝗢𝗱 𝗱𝗮𝗻𝗲𝘀 𝗱𝗼 𝘃𝗸𝗹𝗷𝘂𝗰̌𝗻𝗼 𝟭𝟴. 𝗮𝘃𝗴𝘂𝘀𝘁𝗮 𝟮𝟬𝟮𝟱 je možna oddaja vloge preko 𝗽𝗼𝗿𝘁𝗮𝗹𝗮 𝗲𝗩𝗦̌. \n🏠 𝗥𝗮𝘇𝗽𝗶𝘀𝗮𝗻𝗶𝗵 𝗺𝗲𝘀𝘁 je skupno 𝟭𝟮.𝟮𝟯𝟮\, od tega za sprejem 𝟰.𝟳𝟲𝟵\, podaljšanje 𝟳.𝟰𝟯𝟮 in mednarodno/začasno zaščito 𝟯𝟭. \nCeloten razpis najdete na sledeči povezavi: JAVNI RAZPIS ZA SPREJEM IN PODALJŠANJE BIVANJA \nV bližini @zdravstvenafakulteta so 3️⃣ študentski domovi: 𝗗𝗢𝗠 𝗩𝗦̌𝗭\, 𝗗𝗢𝗠 𝗜𝗟𝗜𝗥𝗦𝗞𝗔 in 𝗗𝗢𝗠 𝗣𝗢𝗟𝗝𝗔𝗡𝗘. \nℹ️ S študijskim letom 2025/2026 se 𝗯𝗼𝗱𝗼 𝘀𝘂𝗯𝘃𝗲𝗻𝗰𝗶𝗷𝗲 𝘇𝗮 𝗯𝗶𝘃𝗮𝗻𝗷𝗲 𝘃 𝗷𝗮𝘃𝗻𝗶𝗵 𝘀̌𝘁𝘂𝗱𝗲𝗻𝘁𝘀𝗸𝗶𝗵 𝗱𝗼𝗺𝗼𝘃𝗶𝗵 𝗽𝗼𝘃𝗲𝗰̌𝗮𝗹𝗲 𝘇𝗮 𝟰𝟬%\, in sicer 𝗶𝘇 𝟮𝟳\,𝟴𝟬 𝗘𝗨𝗥 𝗻𝗮 𝟯𝟴\,𝟵𝟮 𝗘𝗨𝗥 𝗻𝗮 𝘀̌𝘁𝘂𝗱𝗲𝗻𝘁𝘀𝗸𝗼 𝗽𝗼𝘀𝘁𝗲𝗹𝗷𝗼. 📈 \nPrav tako pa se 𝘃𝗶𝘀̌𝗮 tudi 𝘀𝘂𝗯𝘃𝗲𝗻𝗰𝗶𝗷𝗮 𝘇𝗮 𝗯𝗶𝘃𝗮𝗻𝗷𝗲 𝗽𝗿𝗶 𝘇𝗮𝘀𝗲𝗯𝗻𝗶𝗸𝗶𝗵 𝗶𝗻 𝘃 𝘇𝗮𝘀𝗲𝗯𝗻𝗶𝗵 𝘀̌𝘁𝘂𝗱𝗲𝗻𝘁𝘀𝗸𝗶𝗵 𝗱𝗼𝗺𝗼𝘃𝗶𝗵 𝗶𝘇 𝟯𝟮\,𝟬𝟬 𝗘𝗨𝗥 𝗻𝗮 𝟭𝟬𝟬\,𝟲𝟰 𝗘𝗨𝗥 𝗻𝗮 𝗽𝗼𝘀𝘁𝗲𝗹𝗷𝗼. 🙌🏼
URL:http://pacienti.si/dogodek/odprte-prijave-za-sprejem-in-podaljsanje-bivanja-studentov-2025-26/
ATTACH;FMTTYPE=image/jpeg:http://pacienti.si/wp-content/uploads/2025/07/514430237_18514141639051646_1393286186417757586_n.jpg
ORGANIZER;CN="Pacienti%20Zdravstvene%20fakultete":MAILTO:nasi.pacienti@gmail.com
END:VEVENT
END:VCALENDAR