BEGIN:VCALENDAR
VERSION:2.0
PRODID:-//Pacienti - ECPv5.2.1//NONSGML v1.0//EN
CALSCALE:GREGORIAN
METHOD:PUBLISH
X-WR-CALNAME:Pacienti
X-ORIGINAL-URL:http://pacienti.si
X-WR-CALDESC:Events for Pacienti
BEGIN:VTIMEZONE
TZID:UTC
BEGIN:STANDARD
TZOFFSETFROM:+0000
TZOFFSETTO:+0000
TZNAME:UTC
DTSTART:20200101T000000
END:STANDARD
END:VTIMEZONE
BEGIN:VEVENT
DTSTART;TZID=UTC:20201215T190000
DTEND;TZID=UTC:20201215T203000
DTSTAMP:20260421T185511
CREATED:20201208T204346Z
LAST-MODIFIED:20201208T204346Z
UID:4680-1608058800-1608064200@pacienti.si
SUMMARY:Od skeniranja do izdelka
DESCRIPTION:PACIENTI v sodelovanju s študentsko organizacijo Medicinske fakultete\, društvom SiDSIC in podjetjem Ivoclar Vivadent pripravljamo spletno predavanje z naslovom OD SKENIRANJA DO IZDELKA.\nSodobna zobozdravstvena praksa vključuje digitalizacijo\, vključevanje sodobnih tehnologij v terapijo in tehnike predvidevanja terapevtskih rezultatov. Sodobna praksa omogoča predstavitev pacientovih mogočih rezultatov\, pred samim začetkom invazivnega posega. Ta pristop vključuje fotografske podatke\, na podlagi katerih se izvede superpozicija virtualne zasnove in predstavitev pričakovanih rezultatov. Poleg tega\, uporaba digitalnega skeniranja prevede primere v navidezno obliko\, ki omogoča kopiranje predhodno dogovorjenega modela\, v končni videz zobnega nadomestka. Kompenzacijske modele je mogoče ustvariti po principu digitalnega tiska\, kar pa vključuje uporabo aditivne tehnologije.\nNa ta način lahko dobimo modele\, opornice ali vodila\, ki jih kasneje uporabimo za natančno vodenje zdravljenja. Z njihovo pomočjo\, dobimo tudi minimalno invazivnost\, ker se zmanjševanje tkiv izvaja ciljno in načrtno. Digitalizacija omogoča zelo natančno izdelavo zobnih nadomestkov\, z uporabo odjemalnih tehnik. Na ta način se zaključi digitalna obravnava pacienta.\nTe postopke\, dopolnjuje uporaba sodobnih keramičnih materialov. Tehnologija njihove priprave je namreč omogočila izdelavo monolitnih restavracij zelo visokih estetskih vrednosti. Keramični bloki\, ki imajo več plasti\, omogočajo gradientno porazdelitev plasti\, kar odlično posnema optične značilnosti naravnih zob. Z uporabo zgornjih tehnik in postopkov je mogoče predvideti\, spremeniti in prilagoditi zdravljenje glede na potrebe in želje pacientov. Na ta način dosežemo zanesljive rezultate v obojestransko zadovoljstvo.\nPredavanje bo za vas pripravil in v angleškem jeziku predaval: Prof. Dr. Danimir Jevremović\, MSc\, DDS\, PhD\n\nDogodek je za vse udeležence BREZPLAČEN\, potrebna je zgolj predhodna prijava na spletni obrazec: https://forms.gle/1sEiwC8A3gL5Jzj38
URL:http://pacienti.si/dogodek/od-skeniranja-do-izdelka/
CATEGORIES:Delavnica,Izobraževanje,Spletno predavanje,Zdravje
ATTACH;FMTTYPE=image/jpeg:http://pacienti.si/wp-content/uploads/2020/12/130704585_3848399515223396_6658083551428838592_o-scaled.jpg
ORGANIZER;CN="Pacienti%20Zdravstvene%20fakultete":MAILTO:nasi.pacienti@gmail.com
END:VEVENT
END:VCALENDAR