BEGIN:VCALENDAR
VERSION:2.0
PRODID:-//Pacienti - ECPv5.2.1//NONSGML v1.0//EN
CALSCALE:GREGORIAN
METHOD:PUBLISH
X-WR-CALNAME:Pacienti
X-ORIGINAL-URL:http://pacienti.si
X-WR-CALDESC:Events for Pacienti
BEGIN:VTIMEZONE
TZID:UTC
BEGIN:STANDARD
TZOFFSETFROM:+0000
TZOFFSETTO:+0000
TZNAME:UTC
DTSTART:20200101T000000
END:STANDARD
END:VTIMEZONE
BEGIN:VEVENT
DTSTART;TZID=UTC:20201125T140000
DTEND;TZID=UTC:20201125T150000
DTSTAMP:20260421T231906
CREATED:20201120T200034Z
LAST-MODIFIED:20201128T100559Z
UID:4608-1606312800-1606316400@pacienti.si
SUMMARY:Moški raki
DESCRIPTION:PACIENTI smo v sklopu meseca novembra\, posvečenega ozaveščanju o raku prostate pripravili spletno predavanje z naslovom MOŠKI RAKI. Spletno predavanje je bilo  prvotno pripravljamo s ciljem ozaveščanja o raku prostate ter na splošno o zdravju moških\, ki je velikokrat spregledano kot tema strokovnih predavanj in pogovorov. Poznavanje le-teh bolezni pa bistveno prispeva k kvalitetni preventivi\, ki se nam zdi bistvenega pomena pri ohranjanju maksimalnega zdravja! \nPredavanje je za vas pripravila asist. mag. Janka Čarman\, dr. med.\, ki je na Onkološkem inštitutu v Ljubljani zaposlena kot zdravnica radioterapevtka. Svojo kariero posveča predvsem zdravljenju raka prostate in ostalih »moških« rakov. Iz tega razloga predstavlja za študente VSEH zdravstvenih strok ogromen vir znanja in popolno sogovornico za dotično temo raka prostate. Kot specializirana radioterapevtka prav tako razpolaga z ogromno splošnega znanja na temo rakavih obolenj\, preventive\, zdravljenja in spopadanja s to zahrbtno boleznijo. Tako je lahko prav vsak izmed poslušalcev spletnega predavanj naučil nekaj novega\, za življenje in prakso koristnega\, ne glede na njegovo smer izobraževanja ali spol. \n \n 
URL:http://pacienti.si/dogodek/moski-raki/
CATEGORIES:Izobraževanje,Spletno predavanje,Zdravje
ATTACH;FMTTYPE=image/png:http://pacienti.si/wp-content/uploads/2020/11/Moski-raki.png
ORGANIZER;CN="Pacienti%20Zdravstvene%20fakultete":MAILTO:nasi.pacienti@gmail.com
END:VEVENT
END:VCALENDAR