BEGIN:VCALENDAR
VERSION:2.0
PRODID:-//Pacienti - ECPv5.2.1//NONSGML v1.0//EN
CALSCALE:GREGORIAN
METHOD:PUBLISH
X-WR-CALNAME:Pacienti
X-ORIGINAL-URL:http://pacienti.si
X-WR-CALDESC:Events for Pacienti
BEGIN:VTIMEZONE
TZID:UTC
BEGIN:STANDARD
TZOFFSETFROM:+0000
TZOFFSETTO:+0000
TZNAME:UTC
DTSTART:20190101T000000
END:STANDARD
END:VTIMEZONE
BEGIN:VEVENT
DTSTART;VALUE=DATE:20190507
DTEND;VALUE=DATE:20190508
DTSTAMP:20260422T161308
CREATED:20200925T213309Z
LAST-MODIFIED:20201106T095219Z
UID:2013-1557187200-1557273599@pacienti.si
SUMMARY:Babiški tek
DESCRIPTION:Na mednarodni dan babic\, ki ga vsako leto obeležujemo 5. maja\, študentje Babištva na Zdravstveni fakulteti tradicionalno prirejajo različne aktivnosti. Letos so na Prešernovem trgu 7. maja delili brošure v namen širjenja informacij o študijskem programu Babištva in samem poteku oziroma delovanju njihovega poklica. Prav tako pa so organizirali tradicionalni Babiški tek\, ki se je odvijal po ulicah v centru Ljubljane. \n 
URL:http://pacienti.si/dogodek/mednarodni-dan-babic/
CATEGORIES:Zdravje
ATTACH;FMTTYPE=image/jpeg:http://pacienti.si/wp-content/uploads/2020/09/56531165_2381196431901361_4187842878833164288_o.jpg
ORGANIZER;CN="Pacienti%20Zdravstvene%20fakultete":MAILTO:nasi.pacienti@gmail.com
END:VEVENT
END:VCALENDAR