BEGIN:VCALENDAR
VERSION:2.0
PRODID:-//Pacienti - ECPv5.2.1//NONSGML v1.0//EN
CALSCALE:GREGORIAN
METHOD:PUBLISH
X-WR-CALNAME:Pacienti
X-ORIGINAL-URL:http://pacienti.si
X-WR-CALDESC:Events for Pacienti
BEGIN:VTIMEZONE
TZID:UTC
BEGIN:STANDARD
TZOFFSETFROM:+0000
TZOFFSETTO:+0000
TZNAME:UTC
DTSTART:20200101T000000
END:STANDARD
END:VTIMEZONE
BEGIN:VEVENT
DTSTART;TZID=UTC:20200227T090000
DTEND;TZID=UTC:20200227T120000
DTSTAMP:20260422T042034
CREATED:20200925T212642Z
LAST-MODIFIED:20201030T185504Z
UID:1999-1582794000-1582804800@pacienti.si
SUMMARY:Krvodajalska akcija
DESCRIPTION:27. februarja smo se Pacienti udeležili krvodajalske akcije\, ki je potekala na zavodu za transfuzijsko medicino UKC Ljubljana. Udeležba je bila presenetljivo velika\, med njimi je tudi veliko študentov prvič darovalo kri. Najprej so vsem opravili hitri test krvi v katerem so pregledali raven železa\, nato so izmerili še pritisk in temperaturo. Tisti\, ki pa so se krvodajalske akcije udeležili prvič\, pa so morali pred vzemom krvi še na pregled k zdravniku. Kljub temu\, da se je veliko študentov prvič udeležilo krvodajalske akcije oziroma so prvič darovali kri\, so bili z izkušnjo zadovoljni in bodo darovanje krvi v prihodnosti še ponovili. \nGalerija
URL:http://pacienti.si/dogodek/krvodajalska-akcija/
LOCATION:Zavod republike Slovenije za Transfuzijsko medicino\, Šlamerjeva ulica 6\, Ljubljana\, 1000
CATEGORIES:Zdravje
ATTACH;FMTTYPE=image/jpeg:http://pacienti.si/wp-content/uploads/2020/09/krvodajalska.jpg
END:VEVENT
END:VCALENDAR