BEGIN:VCALENDAR
VERSION:2.0
PRODID:-//Pacienti - ECPv5.2.1//NONSGML v1.0//EN
CALSCALE:GREGORIAN
METHOD:PUBLISH
X-WR-CALNAME:Pacienti
X-ORIGINAL-URL:http://pacienti.si
X-WR-CALDESC:Events for Pacienti
BEGIN:VTIMEZONE
TZID:UTC
BEGIN:STANDARD
TZOFFSETFROM:+0000
TZOFFSETTO:+0000
TZNAME:UTC
DTSTART:20210101T000000
END:STANDARD
END:VTIMEZONE
BEGIN:VEVENT
DTSTART;TZID=UTC:20210317T190000
DTEND;TZID=UTC:20210317T210000
DTSTAMP:20260421T203608
CREATED:20210412T181832Z
LAST-MODIFIED:20210412T181832Z
UID:4744-1616007600-1616014800@pacienti.si
SUMMARY:Imunski sistem - Kako do dobrega zdravja?
DESCRIPTION:Ste pogosto nemirni in razdražljivi\nImate kdaj občutek\, da ne obvladujete svojega življenja in vam stvari polzijo iz rok\nZ uravnoteženo prehrano\, gibanjem in sprostitvijo lahko naredite ogromno\nPRIJAVA: https://forms.gle/ypKVh44uzRMqn4tF7\nV sredo 17.3 bodo z vami kar 4 strokovnjakinje iz različnih področij varovanja našega zdravja.\nSabina Blumauer\, učiteljica Gokhale metode vas bo naučila\, kako dobro sedeti\, brez bolečin v\nhrbtenici\, kar bo posledično vplivalo na vaše boljše dihanje\, splošno počutje\, gibanje brez poškodb in\ndelovanje imunskega sistema.\nŽiva Leskovšek\, učiteljica joge in zvočna zdravilka vam bo razložila\, kako vpliva hrup in zvok nasploh\nna vaše telo in počutje. Skozi kratko meditacijo vas bo vodila\, da boste lahko sami izkusili\, kako si\nlahko z zvokom in meditacijo pomagamo pri boljšem počutju\, koncentraciji\, sproščanju\, boljši\nsamopodobi in imunskem sistemu.\nSimona Fabjan\, prehranska svetovalka\, bo z vami delila\, kako pomembno je paziti na naše črevesje.\nV črevesju je namreč kar 70 % imunskega sistema\, zato je v prvi vrsti potrebno ravno zanj pravilno\nposkrbeti. Kako podpreti črevesje z dobro hrano? Kakšni so preventivni koraki? Kdaj poseči po\nprehranskih dopolnilih?\nDr. Katja Rebolj\, nabiralka in raziskovalka divje hrane\, vam bo razkrila 3 zdravilne rastline\, s katerimi\npodprete svoj imunski sistem. Delila bo tudi svojo osebno izkušnjo na poti do poklica nabiralke ter povedala\, kako lahko tudi vi zaživite v svojem zelenem poslanstvu.\nKDAJ: 17. 3. 2021 ob 19. uri\nKJE: spletna aplikacija ZOOM\, spletno povezavo do predavanja boste prejeli na elektronski naslov s\nkaterim ste se prijavili na spletno predavanje.\n PRIJAVA: https://forms.gle/ypKVh44uzRMqn4tF7 \n”Ohraniti dobro zdravje je dolžnost\, sicer ne bomo mogli biti močni in bistri” – Buda
URL:http://pacienti.si/dogodek/imunski-sistem-kako-do-dobrega-zdravja/
LOCATION:spletna aplikacija ZOOM
CATEGORIES:Zdravje
ATTACH;FMTTYPE=image/jpeg:http://pacienti.si/wp-content/uploads/2021/04/160573182_3837545276330809_4424660581106289619_n.jpg
ORGANIZER;CN="Pacienti%20Zdravstvene%20fakultete":MAILTO:nasi.pacienti@gmail.com
END:VEVENT
END:VCALENDAR