BEGIN:VCALENDAR
VERSION:2.0
PRODID:-//Pacienti - ECPv5.2.1//NONSGML v1.0//EN
CALSCALE:GREGORIAN
METHOD:PUBLISH
X-WR-CALNAME:Pacienti
X-ORIGINAL-URL:http://pacienti.si
X-WR-CALDESC:Events for Pacienti
BEGIN:VTIMEZONE
TZID:UTC
BEGIN:STANDARD
TZOFFSETFROM:+0000
TZOFFSETTO:+0000
TZNAME:UTC
DTSTART:20220101T000000
END:STANDARD
END:VTIMEZONE
BEGIN:VEVENT
DTSTART;VALUE=DATE:20221201
DTEND;VALUE=DATE:20221203
DTSTAMP:20260421T202208
CREATED:20221129T171616Z
LAST-MODIFIED:20221129T171913Z
UID:5136-1669852800-1670025599@pacienti.si
SUMMARY:Brucovanje Zdravstvene fakultete 2022
DESCRIPTION:Drage brucke in cenjeni bruci! \nSte pripravljeni na najbolj noro brucovanje kar ga je kdaj doživela študentska Ljubljana?! \n𝐕 𝐜̌𝐞𝐭𝐫𝐭𝐞𝐤\, 𝟎𝟏. 𝟏𝟐. 𝟐𝟎𝟐𝟐 bomo v 𝐂𝐥𝐮𝐛-𝐮 𝐒𝐪𝐚𝐮𝐫𝐞 priča nepozabnemu 𝐁𝐫𝐮𝐜𝐨𝐯𝐚𝐧𝐣𝐮 𝐅𝐚𝐤𝐮𝐥𝐭𝐞𝐭𝐞 𝐳𝐚 𝐫𝐚𝐜̌𝐮𝐧𝐚𝐥𝐧𝐢𝐬̌𝐭𝐯𝐨 𝐢𝐧 𝐢𝐧𝐟𝐨𝐫𝐦𝐚𝐭𝐢𝐤o in 𝐙𝐝𝐫𝐚𝐯𝐬𝐭𝐯𝐞𝐧𝐞 𝐟𝐚𝐤𝐮𝐥𝐭𝐞𝐭𝐞! \nDo jutranjih ur bomo skupaj ustvarjali nepozabne spomine\, katere bomo z našimi prijatelji obujali še vrsto let. \nNa brucovanju ste seveda dobrodošli tudi vse študentke in študentje\, ki po “študijskem nazivu” niste več bruci\, vendar se po srcu še vedno počutite mlade in željni zabave. Vaša naloga pa je\, da novopečenim brucom pokažete kaj le-ta pomeni.\nUdeležba je obvezna\, zahtevana in pričakovana! \n#BeTheMeister #IceColdBrucovanje\n❋❋❋❋❋❋❋❋❋❋❋❋❋❋❋❋❋❋❋❋\n𝗖𝗘𝗡𝗘 𝗩𝗦𝗧𝗢𝗣𝗡𝗜𝗖 / 𝗧𝗜𝗖𝗞𝗘𝗧 𝗣𝗥𝗜𝗖𝗘𝗦:\n𝗣𝗿𝗲𝗱𝗽𝗿𝗼𝗱𝗮𝗷𝗮 / 𝗣𝗿𝗲-𝘀𝗮𝗹𝗲: 5\,00 EUR (število vstopnic v predprodaji je omejeno!)\n\n𝐕𝐬𝐭𝐨𝐩𝐧𝐢𝐜𝐞 𝐯 𝐩𝐫𝐞𝐝𝐩𝐫𝐨𝐝𝐚𝐣𝐢 𝐥𝐚𝐡𝐤𝐨 𝐤𝐮𝐩𝐢𝐭𝐞 𝐧𝐚 𝐬𝐥𝐞𝐝𝐞𝐜̌𝐢 𝐬𝐩𝐥𝐞𝐭𝐧𝐢 𝐩𝐨𝐯𝐞𝐳𝐚𝐯𝐢:\n https://partikarte.si/BrucovanjeFRIInZF \n\n𝗡𝗮𝘃𝗮𝗱𝗻𝗮 / 𝗥𝗲𝗴𝘂𝗹𝗮𝗿 𝐧𝐚 𝐯𝐡𝐨𝐝𝐮: 10\,00 EUR\n𝗩𝗜𝗣 & 𝐊𝐚𝐟𝐚𝐧𝐚: 20\,00 EUR\n𝗥𝗘𝗭𝗘𝗥𝗩𝗔𝗖𝗜𝗝𝗘 𝗠𝗜𝗭: 180\,00 EUR (1x boat po izbiri in 5x VIP vstop) rezervacije@cirkusklub.si // +386 (0) 41 777 747\n𝐒𝐄𝐏𝐀𝐑𝐄 𝐙𝐀 𝟏𝟎 𝐎𝐒𝐄𝐁: 360\,00 EUR (2x boat po izbiri)\n𝗜𝗡𝗙𝗢: studentski.zuri.ljubljana@gmail.com // FRI: +386 (0) 51 868 002; ZF: +386 (0) 70 482 582\n❋❋❋❋❋❋❋❋❋❋❋❋❋❋❋❋❋❋❋❋\n𝐂𝐋𝐔𝐁 𝐒𝐐𝐔𝐀𝐑𝐄\nKongresni trg 3\, 1000 Ljubljana\nhttps://squareclub.si/ //\nhttps://www.facebook.com/squareljubljana/\n❋❋❋❋❋❋❋❋❋❋❋❋❋❋❋❋❋❋❋❋\n𝐃𝐨𝐠𝐨𝐝𝐞𝐤 𝐛𝐨𝐝𝐨 𝐨𝐦𝐨𝐠𝐨𝐜̌𝐢𝐥𝐢:\n Študentski žuri Ljubljana\n Študentska organizacija Zdravstvene fakultete – Pacienti\n Študentska organizacija Fakultete za računalništvo in informatiko – FRiKi\n Študentski svet Zdravstvene fakultete\n G3spirits
URL:http://pacienti.si/dogodek/https-www-facebook-com-events-866047461428842/
LOCATION:Square club\, Kongresni trg 3\, Ljubljana\, 1000\, Slovenija
CATEGORIES:Zabava
ATTACH;FMTTYPE=image/jpeg:http://pacienti.si/wp-content/uploads/2022/11/316098325_656567409502092_5545114811289295316_n-1.jpeg
ORGANIZER;CN="Pacienti%20Zdravstvene%20fakultete":MAILTO:nasi.pacienti@gmail.com
END:VEVENT
END:VCALENDAR