BEGIN:VCALENDAR
VERSION:2.0
PRODID:-//Pacienti - ECPv5.2.1//NONSGML v1.0//EN
CALSCALE:GREGORIAN
METHOD:PUBLISH
X-WR-CALNAME:Pacienti
X-ORIGINAL-URL:http://pacienti.si
X-WR-CALDESC:Events for Pacienti
BEGIN:VTIMEZONE
TZID:UTC
BEGIN:STANDARD
TZOFFSETFROM:+0000
TZOFFSETTO:+0000
TZNAME:UTC
DTSTART:20200101T000000
END:STANDARD
END:VTIMEZONE
BEGIN:VEVENT
DTSTART;VALUE=DATE:20201101
DTEND;VALUE=DATE:20201201
DTSTAMP:20260422T044034
CREATED:20201030T130604Z
LAST-MODIFIED:20201030T193658Z
UID:3109-1604188800-1606780799@pacienti.si
SUMMARY:Festival študentskega e-športa
DESCRIPTION:Drage študentke\, dragi študenti POZOR\nZopet smo prišli v čas\, ko so nam druženja v istem prostoru praktično onemogočena. \nBeremo lahko knjige\, v kuhinji imamo čas ustvarjati različne jedi\, prav tako imamo čas\, da na televiziji pogledamo vse zamujene serije\, katerih prej nismo uspeli. \nVseeno pa se mladi še vedno radi zabavamo na tak ali drugačen način. In prišel je čas\, ko se bolj kot ne\, lahko družimo zgolj online. \nPaineti v sodelovanju z Resorjem za obštudijske dejavnosti in Športno zvezo Univerze v Ljubljani ter še devetimi študentskimi organizacijami visokošolskih zavodov PREDSTAVLJAMO 1. FESTIVAL ŠTUDENTSKEGA E-ŠPORTA. \nMesec november bomo v celoti posvetili online druženju ob najbolj popularnih e-igrah ta hip. \nCeloten razpored:\n1. 11. Otvoritev – Game Night \n2.-4. 11 Tarok \n6. 11. Šah \n7. 11. Osvajalec \n8. 11. Among us \n9. 11. Skribbl \n10. 11. Cards against humanity\n11. 11. Človek ne jezi se \n12. 11. Achtung die Curve \n13. 11. Šah \n14.-15. 11. Fifa20 \n14.-15. 11. LOL – EUNE \n16.-18. 11. Tarok \n19. 11. Osvajalec \n19. 11. Potaplanje ladjic \n20. 11. Šah \n21.-22. 11. Fifa21 \n21. 11. Magic: The Gathering\n23. 11. Among us \n25. 11. Človek ne jezi se \n26. 11. Achtung die Curve \n27. 11. Šah \n27.-29. 11. LOL – WEST \n27.-29. 11. CS:GO \n30. 11. Zaključek – Game Night \n\nVeč ingormacij najdeš na: https://www.facebook.com/events/408686930526353?active_tab=about
URL:http://pacienti.si/dogodek/festival-studentskega-e-sporta/
CATEGORIES:Šport,Zabava
ATTACH;FMTTYPE=image/jpeg:http://pacienti.si/wp-content/uploads/2020/10/festival-studentskega-e-sporta.jpg
ORGANIZER;CN="Pacienti%20Zdravstvene%20fakultete":MAILTO:nasi.pacienti@gmail.com
END:VEVENT
END:VCALENDAR