BEGIN:VCALENDAR
VERSION:2.0
PRODID:-//Pacienti - ECPv5.2.1//NONSGML v1.0//EN
CALSCALE:GREGORIAN
METHOD:PUBLISH
X-WR-CALNAME:Pacienti
X-ORIGINAL-URL:http://pacienti.si
X-WR-CALDESC:Events for Pacienti
BEGIN:VTIMEZONE
TZID:UTC
BEGIN:STANDARD
TZOFFSETFROM:+0000
TZOFFSETTO:+0000
TZNAME:UTC
DTSTART:20190101T000000
END:STANDARD
END:VTIMEZONE
BEGIN:VEVENT
DTSTART;VALUE=DATE:20190301
DTEND;VALUE=DATE:20190304
DTSTAMP:20260422T191413
CREATED:20200925T200643Z
LAST-MODIFIED:20201030T192343Z
UID:1984-1551398400-1551657599@pacienti.si
SUMMARY:Dunaj s Pacienti
DESCRIPTION:Vsako leto v mesecu marcu se študentje 2. in 3. letnika Radiološke tehnologije udeležijo slovitega Radiološkega kongresa na Dunaju\, ki velja za največji dogodek na področju radiologije v Evropi. Poleg tega pa vzporedno s tem\, Pacienti organiziramo strokovno ekskurzijo na Dunaj\, ki se je lahko udeležijo vsi študentje Zdravstvene fakultete. Ogledali smo si staro mestno jedro Dunaja\, Karlov trg\, mestno opero\, Koroško ulico\, Štefanovo katedralo ter sloviti dvorec Schönbrunn in tamkajšni živalski vrt. Prav tako pa smo spoznali nočno življenje avstrijske prestolnice.
URL:http://pacienti.si/dogodek/dunaj-s-pacienti/
LOCATION:Dunaj
CATEGORIES:Ekskurzija
ATTACH;FMTTYPE=image/jpeg:http://pacienti.si/wp-content/uploads/2020/09/51168199_2296330860430277_4990996995771465728_o.jpg
ORGANIZER;CN="Pacienti%20Zdravstvene%20fakultete":MAILTO:nasi.pacienti@gmail.com
END:VEVENT
END:VCALENDAR