BEGIN:VCALENDAR
VERSION:2.0
PRODID:-//Pacienti - ECPv5.2.1//NONSGML v1.0//EN
CALSCALE:GREGORIAN
METHOD:PUBLISH
X-WR-CALNAME:Pacienti
X-ORIGINAL-URL:http://pacienti.si
X-WR-CALDESC:Events for Pacienti
BEGIN:VTIMEZONE
TZID:UTC
BEGIN:STANDARD
TZOFFSETFROM:+0000
TZOFFSETTO:+0000
TZNAME:UTC
DTSTART:20250101T000000
END:STANDARD
END:VTIMEZONE
BEGIN:VEVENT
DTSTART;TZID=UTC:20250228T050000
DTEND;TZID=UTC:20250302T190000
DTSTAMP:20260421T190046
CREATED:20250115T205842Z
LAST-MODIFIED:20250115T205923Z
UID:6299-1740718800-1740942000@pacienti.si
SUMMARY:Dunaj s Pacienti // 28. februar - 01. marec 2025
DESCRIPTION:Z veseljem vas vabimo na tridnevni izlet na čudoviti Dunaj\, kjer bomo skupaj ob pestrem pripravljenem programu raziskovali kulturne\, zgodovinske in sodobne znamenitosti tega evropskega dragulja. Izlet je odlična priložnost za druženje\, nova znanja in sprostitev po izpitnem obdobju. \n 𝗞𝗗𝗔𝗝? 28. februar – 2. marec 2025\n 𝗖𝗘𝗡𝗔: 1̸5̸0̸ ̸€̸ -> 110€ (18€ sofinancira Združenje radioloških inženirjev\, 11€ Pacienti Zdravstvene fakultete in 11€ Študentski svet Zdravstvene fakultete)\n 𝗣𝗥𝗜𝗝𝗔𝗩𝗔: https://forms.gle/hsZ1hDqQz344JWTq6\n 𝐶𝑒𝑙𝑜𝑡𝑒𝑛 𝑝𝑟𝑜𝑔𝑟𝑎𝑚 𝑖𝑧𝑙𝑒𝑡𝑎 𝑗𝑒 𝑜𝑏𝑗𝑎𝑣𝑙𝑗𝑒𝑛 𝑛𝑎 𝑝𝑟𝑖𝑗𝑎𝑣𝑛𝑒𝑚 𝑜𝑏𝑟𝑎𝑧𝑐𝑢.\n𝐏𝐫𝐢𝐣𝐚𝐯𝐚 𝐧𝐚 𝐝𝐨𝐠𝐨𝐝𝐞𝐤 𝐣𝐞 𝐩𝐨𝐩𝐨𝐥𝐧𝐚 𝐨𝐛 𝐩𝐨𝐫𝐚𝐯𝐧𝐚𝐯𝐢 𝐩𝐥𝐚𝐜̌𝐢𝐥𝐚. Vse potrebne informacije o možnosti plačila prejmete na elektronski naslov s katerim se na dogodek prijavljate.\n𝗖𝗘𝗡𝗔 𝟭𝟭𝟬€ 𝗩𝗞𝗟𝗝𝗨𝗖̌𝗨𝗝𝗘: \n• organizacijo tridnevnega izleta na Dunaj;\n• avtobusni prevoz po programu;\n• 2 x nočitev z zajtrkom v hostlu na Dunaju (4-6 posteljnesobe z lastno kopalnico);\n• turistično vodenje oz. spremljanje ves čas potovanja;\n• oglede po programu.\n 𝗗𝗼𝗱𝗮𝘁𝗻𝗲 𝗶𝗻𝗳𝗼𝗿𝗺𝗮𝗰𝗶𝗷𝗲: info@pacienti.si // +386 (0)70 482 582\n𝗗𝗼𝗴𝗼𝗱𝗲𝗸 𝗯𝗼𝗱𝗼 𝗼𝗺𝗼𝗴𝗼𝗰̌𝗶𝗹𝗶:\n• Študentska organizacija Zdravstvene fakultete – Pacienti\n• Študentski svet Zdravstvene fakultete\n• Strokovno združenje radioloških inženirjev Slovenije
URL:http://pacienti.si/dogodek/dunaj-s-pacienti-28-februar-01-marec-2025/
LOCATION:Dunaj
CATEGORIES:Ekskurzija,Izobraževanje,Turizem,Zabava
ATTACH;FMTTYPE=image/png:http://pacienti.si/wp-content/uploads/2025/01/Untitled-design.png
ORGANIZER;CN="Pacienti%20Zdravstvene%20fakultete":MAILTO:nasi.pacienti@gmail.com
END:VEVENT
END:VCALENDAR