BEGIN:VCALENDAR
VERSION:2.0
PRODID:-//Pacienti - ECPv5.2.1//NONSGML v1.0//EN
CALSCALE:GREGORIAN
METHOD:PUBLISH
X-WR-CALNAME:Pacienti
X-ORIGINAL-URL:http://pacienti.si
X-WR-CALDESC:Events for Pacienti
BEGIN:VTIMEZONE
TZID:UTC
BEGIN:STANDARD
TZOFFSETFROM:+0000
TZOFFSETTO:+0000
TZNAME:UTC
DTSTART:20190101T000000
END:STANDARD
END:VTIMEZONE
BEGIN:VEVENT
DTSTART;VALUE=DATE:20191109
DTEND;VALUE=DATE:20191111
DTSTAMP:20260422T044100
CREATED:20200925T181554Z
LAST-MODIFIED:20201106T094800Z
UID:1916-1573257600-1573430399@pacienti.si
SUMMARY:Delavnica kineziološkega tapinga
DESCRIPTION:Pacienti smo v začetku študijskega leta pripravlili zelo poučen tečaj z naslovom Delavnica kineziološkega tapinga. Tečaj se je odvijal 9.-10. novembra v prostorih Študentskega kampusa. Delavnica je bila namenjena študentom fizioterapije\, ki želijo pridobiti nova znanja na področju kineziološkega tapinga in le te uporabljati varno in učinkovito pri fizioterapevtskih obravnavah. Tečaj je bil sestavljen iz dveh delov. V soboto se je izvajal osnovni tečaj\, v nedeljo pa tečaj druge stopnje. Na prvi delavnici so študenti osvojili osnove kineziološkega tapinga in njihovo znanje utrdili s praktičnimi vajami. Spoznali so osnovne tehnike\, načine uporabe ter oskrbe pacientov z nekaterimi poglavitnimi indikacijami\, primernimi za tovrstno oskrbo. Tečaj druge stopnje je bil nadaljevanje prvega v vsebinskem in praktičnem smislu. Širše so bile obravnavane osvojene tehnike\, tako po indikacijah kakor po anatomiji telesa. Delavnici sta bili celodnevni\, z vmesno pavzo za kosilo. Izobraževanje je bilo namenjeno 2. in višjim letnikom\, udeležilo pa se ga je 35 študentov. Delavnico je izvajal dipl.fizioterapevt Marko Macuh\, M.Sc. Po osvojeni diplomi v Ljubljani je v Veliki Britaniji opravil tudi podiplomski študij iz področja športnih poškodb. Z dodatnimi izobraževanji pa se je kvalificiral tudi kot osebni trener\, atletski trener\, pilates inštruktor idr. \nVeč utrinkov pa lahko najdeš v naši GALERIJI.  
URL:http://pacienti.si/dogodek/delavnica-kinezioloskega-tapinga/
LOCATION:Študentski kampus\, Pivovariniška ulica 6\, Ljubljana\, 1000\, Slovenija
CATEGORIES:Delavnica
ATTACH;FMTTYPE=image/jpeg:http://pacienti.si/wp-content/uploads/2020/09/70983838_2710550125675013_2091693152401358848_o.jpg
ORGANIZER;CN="Pacienti%20Zdravstvene%20fakultete":MAILTO:nasi.pacienti@gmail.com
END:VEVENT
END:VCALENDAR