BEGIN:VCALENDAR
VERSION:2.0
PRODID:-//Pacienti - ECPv5.2.1//NONSGML v1.0//EN
CALSCALE:GREGORIAN
METHOD:PUBLISH
X-WR-CALNAME:Pacienti
X-ORIGINAL-URL:http://pacienti.si
X-WR-CALDESC:Events for Pacienti
BEGIN:VTIMEZONE
TZID:UTC
BEGIN:STANDARD
TZOFFSETFROM:+0000
TZOFFSETTO:+0000
TZNAME:UTC
DTSTART:20250101T000000
END:STANDARD
END:VTIMEZONE
BEGIN:VEVENT
DTSTART;TZID=UTC:20250329T090000
DTEND;TZID=UTC:20250330T164500
DTSTAMP:20260421T191147
CREATED:20250307T193902Z
LAST-MODIFIED:20250307T195513Z
UID:6376-1743238800-1743353100@pacienti.si
SUMMARY:Delavnica kineziološkega tapinga v fizioterapiji // 29. – 30. marec
DESCRIPTION:Pacienti Zdravstvene fakultete in Študentski svet Zdravstvene fakultete za vas pripravljamo poučno strokovno delavnico kineziološkega tapinga v fizioterapiji. Tečaj se bo odvijal v soboto\, 29. marca in nedeljo 30. marca 2025. 😁 \nZa študente Zdravstvene fakultete velja ekskluzivna cena 170 €\, za vse ostale študente pa 180 € (redna cena 329\,99 €). ☺️\nOb zaključku delavnice prejmete 𝐩𝐨𝐭𝐫𝐝𝐢𝐥𝐨 𝐨 𝐮𝐝𝐞𝐥𝐞𝐳̌𝐛𝐢.\n🕖 Urnik delavnice:\n1. DAN: sobota 29. 3. 2025\n9:00 – 10:30 Teoretični del – uvod\, fiziološke osnove delovanja trakov; priprava kože\, rokovanje s\ntrakovi\, indikacije in kontraindikacije.\n10:30 –10:45 Odmor.\n10:45 – 12:30 Praktični del osnovne tehnike nameščanja trakov.\n12:30 –  13:30 Odmor za kosilo.\n13:30 – 15:00 Osnovne aplikacije stopalo\, golen\, koleno in stegno.\n15:00 – 15:15 Odmor.\n15:15 – 16:45 Osnovne aplikacije podlaht\, rama in trup.\n16:45 – 18:30 Ponavljanje\, vprašanja in zaključek.\n2. DAN: nedelja 30. 3. 2025\n9:00 – 10:30 Povzetek teoretičnega dela in nadgradnja.\n10:30 – 10:45 Odmor.\n10:45 – 12:30 Praktični del obravnava zgornje okončine na podlagi kliničnega sklepanja.\n12:30 – 13:30 Odmor za kosilo.\n13:30 – 15:00 Praktični del obravnava spodnje okončine na podlagi kliničnega sklepanja.\n15:00 – 15:15 Odmor.\n15:15 – 16:45 Praktični del obravnava trupa na podlagi kliničnega sklepanja. \n📍 𝗞𝗷𝗲? URI Soča\, Linhartova cesta 51\, 1000 Ljubljana\n🚗 V neposredni bližini so na voljo parkirna mesta za avtomobile!\n📩 Prijava: https://forms.gle/dzfsewmM4bYyLSwz7 \nPRIJAVA JE DOKONČNA OB PORAVNAVI KOTIZACIJE (število mest je omejeno).\n➡️Vsa navodila o plačilu boste prejeli na elektronske naslove s katerimi se prijavljate na delavnico. \n\n𝗗𝗼𝗱𝗮𝘁𝗻𝗲 𝗶𝗻𝗳𝗼𝗺𝗮𝗰𝗶𝗷𝗲: info@pacienti.si\n𝗗𝗲𝗹𝗮𝘃𝗻𝗶𝗰𝗼 𝗯𝗼𝗱𝗼 𝗼𝗺𝗼𝗴𝗼𝗰̌𝗶𝗹𝗶:\nPacienti Zdravstvene fakultete – ŠOZF\nŠtudentski svet Zdravstvene fakultete – ŠSZF\nŠtudentska organizacija Univerze v Ljubljani\nEducational training
URL:http://pacienti.si/dogodek/delavnica-kinezioloskega-tapinga-v-fizioterapiji-29-30-marec/
LOCATION:URI Soča\, Linhartova cesta 51\, 1000 Ljubljana
CATEGORIES:Delavnica,Izobraževanje,Zdravje
ATTACH;FMTTYPE=image/png:http://pacienti.si/wp-content/uploads/2025/03/MAREC.png
ORGANIZER;CN="Pacienti%20Zdravstvene%20fakultete":MAILTO:nasi.pacienti@gmail.com
END:VEVENT
END:VCALENDAR