BEGIN:VCALENDAR
VERSION:2.0
PRODID:-//Pacienti - ECPv5.2.1//NONSGML v1.0//EN
CALSCALE:GREGORIAN
METHOD:PUBLISH
X-WR-CALNAME:Pacienti
X-ORIGINAL-URL:http://pacienti.si
X-WR-CALDESC:Events for Pacienti
BEGIN:VTIMEZONE
TZID:UTC
BEGIN:STANDARD
TZOFFSETFROM:+0000
TZOFFSETTO:+0000
TZNAME:UTC
DTSTART:20240101T000000
END:STANDARD
END:VTIMEZONE
BEGIN:VEVENT
DTSTART;TZID=UTC:20241205T220000
DTEND;TZID=UTC:20241206T040000
DTSTAMP:20260421T232937
CREATED:20241203T163608Z
LAST-MODIFIED:20241203T163644Z
UID:6277-1733436000-1733457600@pacienti.si
SUMMARY:Brucovanje ZF & FU / 5.12. / @Square
DESCRIPTION:Drage študentke in študenti Zdravstvene fakultete ter Fakultete za upravo\, drage brucke in bruci! \nPraznični december ni le čas čarobnih trenutkov\, ampak tudi priložnost za najbolj legendarno zabavo študentskega leta! Po dolgem pričakovanju z veseljem naznanjamo\, da bo letošnje BRUCOVANJE združilo moči Zdravstvene fakultete in Fakultete za upravo! Pripravili smo dogodek\, ki bo presegel vsa pričakovanja – noč\, ki je ne boste nikoli pozabili. \nPridružite se nam v četrtek\, 5. decembra\, v klubu Square\, da skupaj ustvarimo nepozabne spomine\, obogatimo študentsko življenje in pokažemo\, da znamo študentje Zdravstvene fakultete in Fakultete za upravo poskrbeti za noro nočno vzdušje! Pripravili smo žur\, ki bo presegel vsa pričakovanja in noč\, ki je ne boste nikoli pozabili! \nUdeležba je obvezna\, saj tega žura preprosto ne smete zamuditi! \n❋❋❋❋❋❋❋❋❋❋❋❋❋❋❋❋❋❋❋❋ \nCENE VSTOPNIC V PREDPRODAJI / PRESALE TICKET PRICES:\nKontingent I: 5\,00 EUR (SOLD OUT!)\nKontingent II: 7\,00 EUR (SAMO ŠE DANES)\nKontingent III: 9\,00 EUR\nKarte v predprodaji (kontingent I.\, kontingent II. in kontingent III.) si lahko zagotovite na tej povezavi: https://fienta.com/brucovanje-zf-fu \nNavadna / Regular (na vhodu): 10\,00 EUR\nKAFANA (samo na vhodu): 15\,00 EUR\nVIP (samo na vhodu): 20\,00 EUR \nREZERVACIJE MIZ:\nVIP ali KAFANA: +386 (0)41 777 747 // rezervacije@cirkusklub.si \nINFO: +386 (0)31 695 346 // studentski.zuri.ljubljana@gmail.com \n❋❋❋❋❋❋❋❋❋❋❋❋❋❋❋❋❋❋❋❋ \nKLUB SQUARE\nKongresni trg 3\, 1000 Ljubljana\nhttps://squareclub.si \n❋❋❋❋❋❋❋❋❋❋❋❋❋❋❋❋❋❋❋❋ \nDogodek bodo omogočili:\nPacienti Zdravstvene fakultete\nFUL Povezani\nŠtudentski svet Zdravstvene fakultete\nŠtudentski svet Fakultete za upravo\nŠtudentska organizacija Zdravstvene fakultete\nŠtudentska organizacija Fakultete za upravo\nŠtudentski žuri Ljubljana\ng3spirits\nMake It Count\nNo. 7\nSquare
URL:http://pacienti.si/dogodek/brucovanje-zf-fu-5-12-square/
LOCATION:Square club\, Kongresni trg 3\, Ljubljana\, 1000\, Slovenija
ATTACH;FMTTYPE=image/jpeg:http://pacienti.si/wp-content/uploads/2024/12/prenos.jpg
ORGANIZER;CN="Pacienti%20Zdravstvene%20fakultete":MAILTO:nasi.pacienti@gmail.com
END:VEVENT
END:VCALENDAR