BEGIN:VCALENDAR
VERSION:2.0
PRODID:-//Pacienti - ECPv5.2.1//NONSGML v1.0//EN
CALSCALE:GREGORIAN
METHOD:PUBLISH
X-WR-CALNAME:Pacienti
X-ORIGINAL-URL:http://pacienti.si
X-WR-CALDESC:Events for Pacienti
BEGIN:VTIMEZONE
TZID:UTC
BEGIN:STANDARD
TZOFFSETFROM:+0000
TZOFFSETTO:+0000
TZNAME:UTC
DTSTART:20250101T000000
END:STANDARD
END:VTIMEZONE
BEGIN:VEVENT
DTSTART;TZID=UTC:20250219T200000
DTEND;TZID=UTC:20250219T220000
DTSTAMP:20260421T220038
CREATED:20250204T160538Z
LAST-MODIFIED:20250204T160538Z
UID:6322-1739995200-1740002400@pacienti.si
SUMMARY:BOWLING NIGHT S PACIENTI
DESCRIPTION:Študentska organizacija Zdravstvene fakultete – Pacienti ponovno organiziramo vedno priljubljen poizpitni Bowling v WOOP! areni!\n\n\nNe zamudi priložnosti za zabaven večer in prijavi svojo ekipo! \n\n\n 𝗢𝗦𝗡𝗢𝗩𝗡𝗘 𝗜𝗡𝗙𝗢𝗥𝗠𝗔𝗖𝗜𝗝𝗘 \n\n\n 𝗘𝗞𝗜𝗣𝗔: 5–6 članov (vsaka ekipa določi vodjo in ime ekipe);\n\n\n 𝗞𝗗𝗔𝗝? 19. 2. 2025 od 20:00 do 22:00 (pridite vsaj 10 minut prej!);\n\n\n 𝗞𝗝𝗘? WOOP! Arena\, Moskovska ulica 10\, 1000 Ljubljana;\n\n\n 𝗖𝗘𝗡𝗔: 8€ na osebo (vključuje 2 uri bowlinga in izposojo čevljev).\n\n\n 𝗣𝗥𝗜𝗝𝗔𝗩𝗔: https://forms.gle/f84RC2yP3NsFQJbY7\n\n\n 𝗣𝗢𝗠𝗘𝗠𝗕𝗡𝗢:\n\n\n Če imaš WOOP! kartico ali zapestnico\, jo prinesi s seboj.\n\n\n Če še nisi registriran/-a\, lahko to opraviš vnaprej na njihovi spletni strani in si prihraniš čas ob prihodu.\n\n\nNe odlašaj – zberi ekipo in se vidimo na stezah! \n\n\n\n𝗗𝗢𝗚𝗢𝗗𝗘𝗞 𝗕𝗢𝗗𝗢 𝗢𝗠𝗢𝗚𝗢𝗖̌𝗜𝗟𝗜:\n\n\n– Študentska organizacija Zdravstvene fakultete – Pacienti\n– Študentski svet Zdravstvene fakultete\n– Športno društvo Zdravstvene fakultete\n– Društvo Utrip\n– ŠOU v Ljubljani
URL:http://pacienti.si/dogodek/bowling-night-s-pacienti/
LOCATION:Woop! Arena
CATEGORIES:Šport,Zabava
ATTACH;FMTTYPE=image/png:http://pacienti.si/wp-content/uploads/2025/02/s-pacienti-1.png
ORGANIZER;CN="Pacienti%20Zdravstvene%20fakultete":MAILTO:nasi.pacienti@gmail.com
END:VEVENT
END:VCALENDAR