BEGIN:VCALENDAR
VERSION:2.0
PRODID:-//Pacienti - ECPv5.2.1//NONSGML v1.0//EN
CALSCALE:GREGORIAN
METHOD:PUBLISH
X-WR-CALNAME:Pacienti
X-ORIGINAL-URL:http://pacienti.si
X-WR-CALDESC:Events for Pacienti
BEGIN:VTIMEZONE
TZID:Europe/Paris
BEGIN:DAYLIGHT
TZOFFSETFROM:+0100
TZOFFSETTO:+0200
TZNAME:CEST
DTSTART:20200329T010000
END:DAYLIGHT
BEGIN:STANDARD
TZOFFSETFROM:+0200
TZOFFSETTO:+0100
TZNAME:CET
DTSTART:20201025T010000
END:STANDARD
END:VTIMEZONE
BEGIN:VEVENT
DTSTART;TZID=Europe/Paris:20201125T190000
DTEND;TZID=Europe/Paris:20201125T213000
DTSTAMP:20260421T233029
CREATED:20201119T193534Z
LAST-MODIFIED:20201126T103328Z
UID:4588-1606330800-1606339800@pacienti.si
SUMMARY:Bolečine v ledveni hrbtenici
DESCRIPTION:PACIENTI smo za študente Zdravstvene fakultete in tudi drugih fakultet pripravili spletno predavanje z naslovom Bolečine v ledveni hrbtenici.\nKer so bolečine v ledveni hrbtenici so v sodobni družbi prisotne pri velikem deležu ljudi in ker večina študentov in tudi drugih dneve preživlja pred računalniki in sedi v prisiljeni drži tudi po več ur neprekinjeno se nam je predavanje zdelo zelo smiselno in je tudi odlično izpadlo. Dr. med. nam je najprej na kratko razložil samo diagnostiko in podal pregled zakaj do teh bolečin sploh prihaja\, nato pa smo odprli diskusijo v kateri so udeleženci postavili veliko vprašanj.\nUpamo in verjamemo\, da je bilo predavanje za vseh 245 udeležencev koristno in so se naučili nekaj novega o njihovem zdravju.
URL:http://pacienti.si/dogodek/bolecine-v-ledveni-hrbtenici/
CATEGORIES:Delavnica,Izobraževanje,Spletno predavanje,Zdravje
ATTACH;FMTTYPE=image/png:http://pacienti.si/wp-content/uploads/2020/11/Bolecine-v-ledveni-hrbtenici.png
ORGANIZER;CN="Pacienti%20Zdravstvene%20fakultete":MAILTO:nasi.pacienti@gmail.com
END:VEVENT
END:VCALENDAR