BEGIN:VCALENDAR
VERSION:2.0
PRODID:-//Pacienti - ECPv5.2.1//NONSGML v1.0//EN
CALSCALE:GREGORIAN
METHOD:PUBLISH
X-WR-CALNAME:Pacienti
X-ORIGINAL-URL:http://pacienti.si
X-WR-CALDESC:Events for Pacienti
BEGIN:VTIMEZONE
TZID:UTC
BEGIN:STANDARD
TZOFFSETFROM:+0000
TZOFFSETTO:+0000
TZNAME:UTC
DTSTART:20200101T000000
END:STANDARD
END:VTIMEZONE
BEGIN:VEVENT
DTSTART;VALUE=DATE:20201111
DTEND;VALUE=DATE:20201112
DTSTAMP:20260422T012852
CREATED:20201105T082018Z
LAST-MODIFIED:20201128T112716Z
UID:3856-1605052800-1605139199@pacienti.si
SUMMARY:BITI TUKAJ in ZDAJ! vol. 2
DESCRIPTION:V sredo 11. 11. nam je asist. Tina Kamenšek dipl.m.s.\, mag.zdr.nege  že drugič predstavila delavnico BITI TUKAJ IN ZDAJ. Delavnica tokrat ni imela omejenega števila udeležencev in se jo je udeležilo 45 študentov. Ga. Kamenšek nam je s pomočjo več vaj prikazala kako lahko nadziramo stres in nas poučila zakaj je čuječnost pomembna in kako postanemo čuječi. Na praktičnih primerih iz zdravstva smo lahko spoznali kako preprečimo izgorelost in delamo dobro za sočloveka. \n 
URL:http://pacienti.si/dogodek/biti-tukaj-in-zdaj-vol-2/
CATEGORIES:Delavnica,Izobraževanje,Zdravje
ATTACH;FMTTYPE=image/png:http://pacienti.si/wp-content/uploads/2020/11/Delavnica-Biti-tukaj-in-zdaj-vol.2-2020-01.png
ORGANIZER;CN="Pacienti%20Zdravstvene%20fakultete":MAILTO:nasi.pacienti@gmail.com
END:VEVENT
END:VCALENDAR