BEGIN:VCALENDAR
VERSION:2.0
PRODID:-//Pacienti - ECPv5.2.1//NONSGML v1.0//EN
CALSCALE:GREGORIAN
METHOD:PUBLISH
X-WR-CALNAME:Pacienti
X-ORIGINAL-URL:http://pacienti.si
X-WR-CALDESC:Events for Pacienti
BEGIN:VTIMEZONE
TZID:UTC
BEGIN:STANDARD
TZOFFSETFROM:+0000
TZOFFSETTO:+0000
TZNAME:UTC
DTSTART:20250101T000000
END:STANDARD
END:VTIMEZONE
BEGIN:VEVENT
DTSTART;VALUE=DATE:20250513
DTEND;VALUE=DATE:20250514
DTSTAMP:20260421T185230
CREATED:20250509T212709Z
LAST-MODIFIED:20250509T212709Z
UID:6532-1747094400-1747180799@pacienti.si
SUMMARY:9. študentska babiška konferenca
DESCRIPTION:🎓 9. študentska babiška konferenca: Spodbujajmo dojenje📅 13. maj 2025📍 Zdravstvena fakulteta Univerze v Ljubljani \nVabljeni na 9. študentsko babiško konferenco z osrednjo temo Spodbujajmo dojenje\, kjer bomo skupaj s strokovnjaki različnih področij obravnavali pomen in podporo dojenju – od priprave v nosečnosti\, vpliva porodnih praks\, do izzivov na poporodnem oddelku\, v patronaži in pediatriji. Konferenca vključuje tudi predstavitev raziskave študentov ter bogat kulturni program. \n📌 Dogodek je brezplačen\, prijava pa je obvezna.📎 SPODBUJANJE DOJENJA – 9. študentska babiška konferenca
URL:http://pacienti.si/dogodek/9-studentska-babiska-konferenca/
LOCATION:Zdravstvena fakulteta
CATEGORIES:Delavnica,Izobraževanje,Zdravje
ATTACH;FMTTYPE=image/jpeg:http://pacienti.si/wp-content/uploads/2025/05/496694327_18185515810315594_457245657478411616_n.jpg
ORGANIZER;CN="Pacienti%20Zdravstvene%20fakultete":MAILTO:nasi.pacienti@gmail.com
END:VEVENT
END:VCALENDAR