BEGIN:VCALENDAR
VERSION:2.0
PRODID:-//Pacienti - ECPv5.2.1//NONSGML v1.0//EN
CALSCALE:GREGORIAN
METHOD:PUBLISH
X-WR-CALNAME:Pacienti
X-ORIGINAL-URL:http://pacienti.si
X-WR-CALDESC:Events for Pacienti
BEGIN:VTIMEZONE
TZID:UTC
BEGIN:STANDARD
TZOFFSETFROM:+0000
TZOFFSETTO:+0000
TZNAME:UTC
DTSTART:20200101T000000
END:STANDARD
END:VTIMEZONE
BEGIN:VEVENT
DTSTART;TZID=UTC:20201119T080000
DTEND;TZID=UTC:20201219T170000
DTSTAMP:20260422T030237
CREATED:20201119T193743Z
LAST-MODIFIED:20201119T193757Z
UID:4591-1605772800-1608397200@pacienti.si
SUMMARY:Mesec dodatnega izobraževanja
DESCRIPTION:Drage študentke\, dragi študenti\n\nKer je znanje naše največje bogastvo smo se na Resorju za obštudijske dejavnosti odločili\, da za vas v času preventivnih ukrepov v zvezi s COVID-19\, ki veljajo v državi\, pripravimo MESEC DODATNEGA IZOBRAŽEVANJA. \nOd 19. novembra dalje bomo za študente skupaj z različnimi študentskimi organizacijami visokošolskih zavodov pripravili več izobraževalnih predavanj\, delavnic in okroglih miz preko spleta. Vsebine bodo namenjene vsem študentom in mladim po srcu\, pri prijavi na nekatere pa bodo imeli prednost študentje določenih fakultet. \nNaš namen je\, da o izobraževalni vsebinah naših fakultet in akademij informiramo čim več študentov in jih zberemo skupaj na enem mestu.\n\nVeč pa lahko najdete na FB dogodku: https://www.facebook.com/events/299053534603397 
URL:http://pacienti.si/dogodek/4591/
CATEGORIES:Izobraževanje
ATTACH;FMTTYPE=image/png:http://pacienti.si/wp-content/uploads/2020/11/Mesec-dodatnega-izobrazevanja-cover.png
ORGANIZER;CN="Pacienti%20Zdravstvene%20fakultete":MAILTO:nasi.pacienti@gmail.com
END:VEVENT
END:VCALENDAR