BEGIN:VCALENDAR
VERSION:2.0
PRODID:-//Pacienti - ECPv5.2.1//NONSGML v1.0//EN
CALSCALE:GREGORIAN
METHOD:PUBLISH
X-WR-CALNAME:Pacienti
X-ORIGINAL-URL:http://pacienti.si
X-WR-CALDESC:Events for Pacienti
BEGIN:VTIMEZONE
TZID:UTC
BEGIN:STANDARD
TZOFFSETFROM:+0000
TZOFFSETTO:+0000
TZNAME:UTC
DTSTART:20260101T000000
END:STANDARD
END:VTIMEZONE
BEGIN:VEVENT
DTSTART;TZID=UTC:20260330T163000
DTEND;TZID=UTC:20260330T193000
DTSTAMP:20260421T160619
CREATED:20260324T181508Z
LAST-MODIFIED:20260324T181508Z
UID:7373-1774888200-1774899000@pacienti.si
SUMMARY:🎨 𝗔𝗥𝗧𝗬 𝗣𝗔𝗥𝗧𝗬 𝗦 𝗣𝗔𝗖𝗜𝗘𝗡𝗧𝗜 𝗭𝗙 🎨
DESCRIPTION:Pridruži se nam na ustvarjalnem popoldnevu\, kjer bo v eni roki čopič\, v drugi pa kozarček vina! 🖌️🍷\n𝗔𝗥𝗧𝗬 𝗣𝗔𝗥𝗧𝗬 je sproščen dogodek\, kjer ne potrebuješ nobenih slikarskih izkušenj\, samo dobro voljo\, malo radovednosti in pripravljenost na zabavo. 😁 \nZ nami bo 𝗮𝗸𝗮𝗱𝗲𝗺𝘀𝗸𝗼 𝗶𝘇𝗼𝗯𝗿𝗮𝘇̌𝗲𝗻 𝘂𝗺𝗲𝘁𝗻𝗶𝗸\, ki nas bo vodil korak za korakom\, od praznega platna do prave male umetnine. 🖼️ \nPlatno\, ki ga ustvariš\, odneseš domov kot unikatno darilo samemu sebi ali pa komu drugemu. 🎁🥰 \nS seboj ne potrebuješ ničesar. mi poskrbimo za vse: stojala\, čopiče\, barve\, predpasnike\, palete in platna. 💪🏼 \n🗓️ 𝗞𝗗𝗔𝗝? Ponedeljek\, 30. marec od 16:30 do 18:30 \n📍 𝗞𝗝𝗘? Zdravstvena fakulteta UL\, Zdravstvena pot 5\, 1000 Ljubljana \n💰 𝗖𝗘𝗡𝗔? 3̶9̶ E̶U̶R̶ 𝟭𝟱 𝗘𝗨𝗥 ✅ \n📬 𝗣𝗥𝗜𝗝𝗔𝗩𝗘: https://forms.gle/Dz2ZeWBMLjrMRahf6 \nPrijava je dokončna ob poravnavi kotizacije; število mest je omejeno. \n➡️ Vsa navodila o plačilu boste v prihodnjih dneh prejeli na elektronske naslove s katerimi se prijavljate na dogodek. \nℹ️ 𝗗𝗼𝗱𝗮𝘁𝗻𝗲 𝗶𝗻𝗳𝗼𝗺𝗮𝗰𝗶𝗷𝗲: info@pacienti.si \n𝗗𝗲𝗹𝗮𝘃𝗻𝗶𝗰𝗼 𝗯𝗼𝗱𝗼 𝗼𝗺𝗼𝗴𝗼𝗰̌𝗶𝗹𝗶:\n– Pacienti Zdravstvene fakultete – ŠOZF\n– Študentski svet Zdravstvene fakultete – ŠSZF\n– Zdravstvena fakulteta Univerze v Ljubljani
URL:http://pacienti.si/dogodek/%f0%9f%8e%a8-%f0%9d%97%94%f0%9d%97%a5%f0%9d%97%a7%f0%9d%97%ac-%f0%9d%97%a3%f0%9d%97%94%f0%9d%97%a5%f0%9d%97%a7%f0%9d%97%ac-%f0%9d%97%a6-%f0%9d%97%a3%f0%9d%97%94%f0%9d%97%96%f0%9d%97%9c%f0%9d%97%98/
LOCATION:Zdravstvena fakulteta
ATTACH;FMTTYPE=image/jpeg:http://pacienti.si/wp-content/uploads/2026/03/Posnetek-zaslona-2026-03-24-191118.jpg
ORGANIZER;CN="Pacienti%20Zdravstvene%20fakultete":MAILTO:nasi.pacienti@gmail.com
END:VEVENT
END:VCALENDAR