BEGIN:VCALENDAR
VERSION:2.0
PRODID:-//Pacienti - ECPv5.2.1//NONSGML v1.0//EN
CALSCALE:GREGORIAN
METHOD:PUBLISH
X-WR-CALNAME:Pacienti
X-ORIGINAL-URL:http://pacienti.si
X-WR-CALDESC:Events for Pacienti
BEGIN:VTIMEZONE
TZID:UTC
BEGIN:STANDARD
TZOFFSETFROM:+0000
TZOFFSETTO:+0000
TZNAME:UTC
DTSTART:20260101T000000
END:STANDARD
END:VTIMEZONE
BEGIN:VEVENT
DTSTART;VALUE=DATE:20260521
DTEND;VALUE=DATE:20260522
DTSTAMP:20260421T113408
CREATED:20260419T150849Z
LAST-MODIFIED:20260419T150958Z
UID:7431-1779321600-1779407999@pacienti.si
SUMMARY:🎢🔥 PACIENTI V GARDALANDU! 🔥🎢
DESCRIPTION:Pridruži se nam v četrtek\, 21. maja 2026 na nepozabnem enodnevnem izletu v Gardaland\, kjer te čakajo adrenalinska doživetja\, fantazija in neskončna zabava! 🔥 Doživi hitrost\, vznemirjenje in magično vzdušje največjega zabaviščnega parka v Italiji ter se za en dan popolnoma prepusti svetu pustolovščin. Prijavi se zdaj in doživi pravi adrenalinski spektakel! 🚀🎢✨\n📅 𝗞𝗱𝗮𝗷: 21. maj 2026\n💥 𝗘𝗮𝗿𝗹𝘆 𝗯𝗶𝗿𝗱 𝗰𝗲𝗻𝗮: 55\,00 EUR (velja do vključno 3. 5. 2026)\n🏁 𝗥𝗲𝗱𝗻𝗮 𝗰𝗲𝗻𝗮: 60\,00 EUR\n📬 𝗣𝗿𝗶𝗷𝗮𝘃𝗮: https://fienta.com/sl/sou-v-gardaland\n✅ 𝗖𝗲𝗻𝗮 𝘃𝗸𝗹𝗷𝘂𝗰̌𝘂𝗷𝗲: \n\ncelodnevno vstopnico za zabaviščni park Gardaland\,\nprevoz s sodobnim turističnim avtobusom (Ljubljana – Gardaland – Ljubljana)\,\nvodjo poti\,\norganizacijo izleta\,\ncestnine in ostale pristojbine.\n\nℹ️ 𝗗𝗼𝗱𝗮𝘁𝗻𝗲 𝗶𝗻𝗳𝗼𝗿𝗺𝗮𝗰𝗶𝗷𝗲:\nobstudijske.sou@gmail.com\n00386 30 667 789 \n𝗗𝗼𝗴𝗼𝗱𝗲𝗸 𝗯𝗼𝗱𝗼 𝗼𝗺𝗼𝗴𝗼𝗰̌𝗶𝗹𝗶: \n\nŠtudentska organizacija Zdravstvene fakultete –  PACIENTI\nŠtudentski svet Zdravstvene fakultete
URL:http://pacienti.si/dogodek/%f0%9f%8e%a2%f0%9f%94%a5-pacienti-v-gardalandu-%f0%9f%94%a5%f0%9f%8e%a2/
ATTACH;FMTTYPE=image/png:http://pacienti.si/wp-content/uploads/2026/04/FBcoverZF.png
ORGANIZER;CN="Pacienti%20Zdravstvene%20fakultete":MAILTO:nasi.pacienti@gmail.com
END:VEVENT
END:VCALENDAR