BEGIN:VCALENDAR
VERSION:2.0
PRODID:-//Pacienti - ECPv5.2.1//NONSGML v1.0//EN
CALSCALE:GREGORIAN
METHOD:PUBLISH
X-WR-CALNAME:Pacienti
X-ORIGINAL-URL:http://pacienti.si
X-WR-CALDESC:Events for Pacienti
BEGIN:VTIMEZONE
TZID:UTC
BEGIN:STANDARD
TZOFFSETFROM:+0000
TZOFFSETTO:+0000
TZNAME:UTC
DTSTART:20250101T000000
END:STANDARD
END:VTIMEZONE
BEGIN:VEVENT
DTSTART;VALUE=DATE:20251217
DTEND;VALUE=DATE:20251218
DTSTAMP:20260422T143459
CREATED:20251125T163327Z
LAST-MODIFIED:20251125T163327Z
UID:7155-1765929600-1766015999@pacienti.si
SUMMARY:🍷✨ Vinski Univerzum se vrača! ✨🍷
DESCRIPTION: Kaj je Vinski Univerzum?Vinski Univerzum je izobraževalni festival vina\, posebej ustvarjen za mlade med 18. in 30. letom — študente\, ljubitelje vina in vse tiste\, ki bi se radi spoznali z vinsko kulturo Slovenije. Njegov namen je dvigniti raven uživanja vina med mladimi\, promovirati slovenska vina in vinarstvo\, ter graditi mostove med tradicijo in prihodnostjo.Festival ni le degustacija — gre za priložnost za učenje: o vinorodnih deželah\, sortah\, pravilnem okušanju\, bontonu in o vinarjih\, ki stojijo za kulisami vsakega kozarca. Kdaj in kjeDogodek bo potekal decembra 2025 na prestižni lokaciji v Ljubljani. Natančen datum in lokacija bomo sporočili kmalu — spremljajte nas! Zakaj prideš?Preizkusil boš vina mladih vinarjev iz cele Slovenije — vsak od njih bo imel priložnost predstaviti svojo strast\, filozofijo in posebnosti svojih vin.Sodeloval boš v delavnicah\, kjer se boš naučil pravilnega okušanja vina\, bontona\, kulture pitja — ampak vedno na sproščen in prijazen način.Dogodek bo v stilu business smart: eleganca\, spoštovanje\, dober ambient — brez pretirane formalnosti. Karte: VINSKI UNIVERZUM 2025 Kaj si želiš vedeti?Si želiš vedeti\, kako se obleči\, kako degustirati\, kaj pričakovati\, kaj prinašati s seboj? V naslednjih tednih bomo delili nasvete\, vodiče\, predstavitve vinarjev in veliko inspiracije — vse za to\, da bo tvoja izkušnja na Vinskem Univerzumu popolna.Se vidimo tam!
URL:http://pacienti.si/dogodek/%f0%9f%8d%b7%e2%9c%a8-vinski-univerzum-se-vraca-%e2%9c%a8%f0%9f%8d%b7/
LOCATION:GRAND HOTEL UNION
ATTACH;FMTTYPE=image/png:http://pacienti.si/wp-content/uploads/2025/11/Izdelek-brez-naslova.png
END:VEVENT
END:VCALENDAR