BEGIN:VCALENDAR
VERSION:2.0
PRODID:-//Pacienti - ECPv5.2.1//NONSGML v1.0//EN
CALSCALE:GREGORIAN
METHOD:PUBLISH
X-WR-CALNAME:Pacienti
X-ORIGINAL-URL:http://pacienti.si
X-WR-CALDESC:Events for Pacienti
BEGIN:VTIMEZONE
TZID:UTC
BEGIN:STANDARD
TZOFFSETFROM:+0000
TZOFFSETTO:+0000
TZNAME:UTC
DTSTART:20250101T000000
END:STANDARD
END:VTIMEZONE
BEGIN:VEVENT
DTSTART;VALUE=DATE:20250404
DTEND;VALUE=DATE:20250407
DTSTAMP:20260421T204231
CREATED:20250310T212238Z
LAST-MODIFIED:20250310T212238Z
UID:6401-1743724800-1743983999@pacienti.si
SUMMARY:🇮🇹 Bologna – San Marino – Rimini s PACIENTI! 🇮🇹
DESCRIPTION:📍 Bologna – San Marino – Rimini\n📅 4.–6. april 2025\n💰 EARLY BIRD: 135 € (do 23. 3.) | REDNA CENA: 145 € \n🔹 Tri dni\, tri neverjetne destinacije! 🔥\n🏛 Bologna – mesto arkad\, srednjeveške arhitekture in okusne kulinarike 🍝\n🇸🇲 San Marino – najstarejša republika na svetu z osupljivimi razgledi 🌄\n🌊 Rimini – priljubljeno obmorsko letovišče s peščenimi plažami in bogato zgodovino \n✨ Kaj te čaka?\n✅ Voden ogled Bologne in znamenitosti\, kot sta Piazza Maggiore & Torre Asinelli\n✅ Sprostitev v slikovitem San Marinu s panoramskimi razgledi in ugodnim nakupovanjem\n✅ Poletno vzdušje v Riminiju: plaže\, zgodovinski mostovi in nepozabni spomini\n✅ Nepogrešljiva družba in zabava z najboljšo študentsko organizacijo! 🎉 \n📌 https://fienta.com/sl/bologna-san-marino-rimini \n📩 Za več informacij piši na obstudijske.dejavnosti.sou@gmail.com
URL:http://pacienti.si/dogodek/%f0%9f%87%ae%f0%9f%87%b9-bologna-san-marino-rimini-s-pacienti-%f0%9f%87%ae%f0%9f%87%b9/
LOCATION:ITALIJA\, Italija
ATTACH;FMTTYPE=image/jpeg:http://pacienti.si/wp-content/uploads/2025/03/IGpostZF.jpg
ORGANIZER;CN="Pacienti%20Zdravstvene%20fakultete":MAILTO:nasi.pacienti@gmail.com
END:VEVENT
END:VCALENDAR