BEGIN:VCALENDAR
VERSION:2.0
PRODID:-//Pacienti - ECPv5.2.1//NONSGML v1.0//EN
CALSCALE:GREGORIAN
METHOD:PUBLISH
X-WR-CALNAME:Pacienti
X-ORIGINAL-URL:http://pacienti.si
X-WR-CALDESC:Events for Pacienti
BEGIN:VTIMEZONE
TZID:UTC
BEGIN:STANDARD
TZOFFSETFROM:+0000
TZOFFSETTO:+0000
TZNAME:UTC
DTSTART:20250101T000000
END:STANDARD
END:VTIMEZONE
BEGIN:VEVENT
DTSTART;TZID=UTC:20251014T160000
DTEND;TZID=UTC:20251014T220000
DTSTAMP:20260421T233105
CREATED:20251003T170535Z
LAST-MODIFIED:20251003T171513Z
UID:6777-1760457600-1760479200@pacienti.si
SUMMARY:𝟰. 𝗣𝗜𝗞𝗡𝗜𝗞 𝗭𝗗𝗥𝗔𝗩𝗦𝗧𝗩𝗘𝗡𝗘 𝗙𝗔𝗞𝗨𝗟𝗧𝗘𝗧𝗘!
DESCRIPTION:Drage študentke in dragi študenti Zdravstvene fakultete! \n\nPočitnice so se končale in pred vami je novo življenjsko obdobje. \nDa bo prehod čim lažji in da spoznate čim več novih ljudi\, smo za vas pripravili dogodek\, ki ga ne smete zamuditi: 𝟰. 𝗣𝗜𝗞𝗡𝗜𝗞 𝗭𝗗𝗥𝗔𝗩𝗦𝗧𝗩𝗘𝗡𝗘 𝗙𝗔𝗞𝗨𝗟𝗧𝗘𝗧𝗘! \n𝗔𝗟𝗟 𝗬𝗢𝗨 𝗖𝗔𝗡 𝗘𝗔𝗧 & 𝗔𝗟𝗟 𝗬𝗢𝗨 𝗖𝗔𝗡 𝗗𝗥𝗜𝗡𝗞 pa velja za koriščenje celotne ponudbe hrane ter piva\, vina in brezalkoholne pijače. \n\nNAKUP VSTOPNIC: Piknik Zdravstvene fakultete // 14. 10. // @Študentski Kampus\n\n 𝗞𝗗𝗔𝗝? Torek\, 14. 10. 2025 od 16:00 do 22:00\n 𝗞𝗝𝗘? Študentski Kampus (Pivovarniška ulica 6\, 1000 Ljubljana)\n\nPiknik je idealna priložnost\, da se študentke in študentje 𝘃𝘀𝗲𝗵 𝗼𝘀𝗺𝗶𝗵 𝘀̌𝘁𝘂𝗱𝗶𝗷𝘀𝗸𝗶𝗵 𝗽𝗿𝗼𝗴𝗿𝗮𝗺𝗼𝘃 med sabo spoznamo\, povežemo in skupaj ustvarimo nepozabne spomine. \n\nPoleg tega pa pripravljamo tudi vrsto zabavnih iger\, kjer boste lahko tekmovali in se družili z ostalimi študenti! \n\nNa pikniku se boste prav tako lahko pomerili v:\n– 𝗯𝗲𝗲𝗿𝗽𝗼𝗻𝗴𝘂 \,– 𝘃𝗹𝗲𝗰̌𝗲𝗻𝗷𝘂 𝘃𝗿𝘃𝗶 𝗽𝗼 𝘀̌𝘁𝘂𝗱𝗶𝗷𝘀𝗸𝗶𝗵 𝗽𝗿𝗼𝗴𝗿𝗮𝗺𝗶𝗵\,– 𝗱𝗿𝘂𝘇̌𝗮𝗯𝗻𝗶𝗵 𝗶𝗴𝗿𝗮𝗵 𝗶𝗻– 𝘇𝗱𝗿𝗮𝘃𝘀𝘁𝘃𝗲𝗻𝗶𝗵 𝗶𝗴𝗿𝗮𝗵\, 𝗸𝗷𝗲𝗿 𝗯𝗼𝘀𝘁𝗲 𝗽𝗿𝗲𝘃𝗲𝗿𝗶𝗹𝗶 𝘀𝘃𝗼𝗷𝗲 𝘀𝗽𝗿𝗲𝘁𝗻𝗼𝘀𝘁𝗶! \n\n 𝗗𝗼𝗱𝗮𝘁𝗻𝗲 𝗶𝗻𝗳𝗼𝗿𝗺𝗮𝗰𝗶𝗷𝗲: info@pacienti.si
URL:http://pacienti.si/dogodek/%f0%9d%9f%b0-%f0%9d%97%a3%f0%9d%97%9c%f0%9d%97%9e%f0%9d%97%a1%f0%9d%97%9c%f0%9d%97%9e-%f0%9d%97%ad%f0%9d%97%97%f0%9d%97%a5%f0%9d%97%94%f0%9d%97%a9%f0%9d%97%a6%f0%9d%97%a7%f0%9d%97%a9%f0%9d%97%98/
LOCATION:Študentski kampus\, Pivovariniška ulica 6\, Ljubljana\, 1000\, Slovenija
CATEGORIES:Zabava
ATTACH;FMTTYPE=image/jpeg:http://pacienti.si/wp-content/uploads/2025/10/MAREC-2_page-0001-scaled.jpg
ORGANIZER;CN="Pacienti%20Zdravstvene%20fakultete":MAILTO:nasi.pacienti@gmail.com
END:VEVENT
END:VCALENDAR