BEGIN:VCALENDAR
VERSION:2.0
PRODID:-//Pacienti - ECPv5.2.1//NONSGML v1.0//EN
CALSCALE:GREGORIAN
METHOD:PUBLISH
X-WR-CALNAME:Pacienti
X-ORIGINAL-URL:http://pacienti.si
X-WR-CALDESC:Events for Pacienti
BEGIN:VTIMEZONE
TZID:UTC
BEGIN:STANDARD
TZOFFSETFROM:+0000
TZOFFSETTO:+0000
TZNAME:UTC
DTSTART:20240101T000000
END:STANDARD
END:VTIMEZONE
BEGIN:VEVENT
DTSTART;TZID=UTC:20241218T190000
DTEND;TZID=UTC:20241218T210000
DTSTAMP:20260422T011252
CREATED:20241212T193458Z
LAST-MODIFIED:20241212T193607Z
UID:6280-1734548400-1734555600@pacienti.si
SUMMARY:𝗗𝗼𝗯𝗿𝗼𝗱𝗲𝗹𝗻𝗶 𝗯𝗼𝘇̌𝗶𝗰̌𝗻𝗶 𝘀𝘁𝗮𝗻𝗱-𝘂𝗽 𝗭𝗱𝗿𝗮𝘃𝘀𝘁𝘃𝗲𝗻𝗲 𝗳𝗮𝗸𝘂𝗹𝘁𝗲𝘁𝗲!
DESCRIPTION:Drage študentke in cenjeni študentje Zdravstvene fakultete! \n\n\n\nV sklopu 𝗗𝗼𝗯𝗿𝗼𝗱𝗲𝗹𝗻𝗲𝗴𝗮 𝘁𝗲𝗱𝗻𝗮 𝗭𝗱𝗿𝗮𝘃𝘀𝘁𝘃𝗲𝗻𝗲 𝗳𝗮𝗸𝘂𝗹𝘁𝗲𝘁𝗲 𝟮𝟬𝟮𝟰\, tudi letos organiziramo sedaj že tradicionalni 𝗗𝗼𝗯𝗿𝗼𝗱𝗲𝗹𝗻𝗶 𝗯𝗼𝘇̌𝗶𝗰̌𝗻𝗶 𝘀𝘁𝗮𝗻𝗱-𝘂𝗽!\n\n\n\n\nLetos nas bosta zabavala 𝗩𝗶𝗱 𝗩𝗮𝗹𝗶𝗰̌ in 𝗔𝗹𝗲𝗻 𝗠𝗮𝘀𝘁𝗻𝗮𝗸! \n\n\n\n\nVidimo se 𝘃 𝘀𝗿𝗲𝗱𝗼\, 𝟭𝟴. 𝗱𝗲𝗰𝗲𝗺𝗯𝗿𝗮 𝗼𝗯 𝟭𝟵:𝟬𝟬 na 𝗭𝗱𝗿𝗮𝘃𝘀𝘁𝘃𝗲𝗻𝗶 𝗳𝗮𝗸𝘂𝗹𝘁𝗲𝘁𝗶 𝘃 𝗽𝗿𝗲𝗱𝗮𝘃𝗮𝗹𝗻𝗶𝗰𝗶 𝟭𝟴 (𝗣𝟭𝟴).\n\n\nTudi letos se bomo pridružili projektu “𝗕𝗢𝗭̌𝗜𝗖̌𝗞𝗢𝗩𝗔 𝗧𝗢𝗩𝗔𝗥𝗡𝗔 𝗗𝗔𝗥𝗜𝗟” \, ki ga organizira Humanitarno društvo “Enostavno pomagam” (@enostavnopomagam)\n\n\n\n\nBožično darilo za otroke iz socialno ogroženih družin ti zagotavlja 𝗕𝗥𝗘𝗭𝗣𝗟𝗔𝗖̌𝗘𝗡 𝗩𝗦𝗧𝗢𝗣! \n\n\nZbirali bomo 𝗶𝗴𝗿𝗮𝗰̌𝗲 \, 𝗸𝗻𝗷𝗶𝗴𝗲 \, 𝘀̌𝗼𝗹𝘀𝗸𝗲 𝗽𝗼𝘁𝗿𝗲𝗯𝘀̌𝗰̌𝗶𝗻𝗲 𝗮𝗹𝗶 𝗺𝗮𝘁𝗲𝗿𝗶𝗮𝗹 𝘇𝗮 𝘂𝘀𝘁𝘃𝗮𝗿𝗷𝗮𝗻𝗷𝗲 \, 𝘀𝗹𝗮𝗱𝗸𝗮𝗿𝗶𝗷𝗲  𝗶𝗻 𝗶𝘇𝗱𝗲𝗹𝗸𝗲 𝘇𝗮 𝗼𝘀𝗲𝗯𝗻𝗼 𝗻𝗲𝗴𝗼.\n\n\n\n\n 𝗥𝗘𝗭𝗘𝗥𝗩𝗔𝗖𝗜𝗝𝗔 𝗩𝗦𝗧𝗢𝗣𝗡𝗜𝗖𝗘: https://docs.google.com/forms/u/1/d/1J6Jx5IuWoYGan-sEbEV1OQ4pMw8iXvO_Y2jb2LdSnDY/edit?usp=drive_web\n(dokončna ob prevzemu vstopnice\, le-te prevzamete na stojnicah na Zdravstveni fakulteti v ponedeljek\, torek ali sredo od 09:00 do 13:00).\n\n\n\n\n Do svojega sedeža na Dobrodelnem božičnem stand-up-u Zdravstvene fakultete pridete tako\, da:\n\n\n1. si rezervirate vstopnico na zgoraj priloženi povezavi;\n\n\n2. poskrbite\, da svojo vstopnico prevzamete v času stojnic naslednji teden v ponedeljek\, torek in sredo od 09:00 do 13:00;\n\n\n3. na stojnico s seboj prinesite 𝗶𝗴𝗿𝗮𝗰̌𝗲 \, 𝗸𝗻𝗷𝗶𝗴𝗲 \, 𝘀̌𝗼𝗹𝘀𝗸𝗲 𝗽𝗼𝘁𝗿𝗲𝗯𝘀̌𝗰̌𝗶𝗻𝗲 𝗮𝗹𝗶 𝗺𝗮𝘁𝗲𝗿𝗶𝗮𝗹 𝘇𝗮 𝘂𝘀𝘁𝘃𝗮𝗿𝗷𝗮𝗻𝗷𝗲 \, 𝘀𝗹𝗮𝗱𝗸𝗮𝗿𝗶𝗷𝗲  𝗶𝗻 𝗶𝘇𝗱𝗲𝗹𝗸𝗲 𝘇𝗮 𝗼𝘀𝗲𝗯𝗻𝗼 𝗻𝗲𝗴𝗼.\n\n\n\n\n𝗞𝗲𝗿 𝗷𝗲 𝘀̌𝘁𝗲𝘃𝗶𝗹𝗼 𝗺𝗲𝘀𝘁 𝗼𝗺𝗲𝗷𝗲𝗻𝗼\, 𝘃𝗲𝗹𝗷𝗮 𝗽𝗿𝗮𝘃𝗶𝗹𝗼: “𝗞𝗱𝗼𝗿 𝗽𝗿𝘃𝗶 𝗽𝗿𝗶𝗱𝗲\, 𝗽𝗿𝘃𝗶 𝗺𝗲𝗹𝗷𝗲.”\n\n\n\n\n𝗛𝗩𝗔𝗟𝗔\, ker vam je mar!
URL:http://pacienti.si/dogodek/%f0%9d%97%97%f0%9d%97%bc%f0%9d%97%af%f0%9d%97%bf%f0%9d%97%bc%f0%9d%97%b1%f0%9d%97%b2%f0%9d%97%b9%f0%9d%97%bb%f0%9d%97%b6-%f0%9d%97%af%f0%9d%97%bc%f0%9d%98%87%f0%9d%97%b6%f0%9d%97%b0/
LOCATION:Zdravstvena fakulteta
CATEGORIES:Dobrodelni dogodek
ATTACH;FMTTYPE=image/png:http://pacienti.si/wp-content/uploads/2024/12/Teden-sporta.png
ORGANIZER;CN="Pacienti%20Zdravstvene%20fakultete":MAILTO:nasi.pacienti@gmail.com
END:VEVENT
END:VCALENDAR