BEGIN:VCALENDAR
VERSION:2.0
PRODID:-//Pacienti - ECPv5.2.1//NONSGML v1.0//EN
CALSCALE:GREGORIAN
METHOD:PUBLISH
X-WR-CALNAME:Pacienti
X-ORIGINAL-URL:http://pacienti.si
X-WR-CALDESC:Events for Pacienti
BEGIN:VTIMEZONE
TZID:UTC
BEGIN:STANDARD
TZOFFSETFROM:+0000
TZOFFSETTO:+0000
TZNAME:UTC
DTSTART:20250101T000000
END:STANDARD
END:VTIMEZONE
BEGIN:VEVENT
DTSTART;VALUE=DATE:20251215
DTEND;VALUE=DATE:20251220
DTSTAMP:20260422T125719
CREATED:20251213T222016Z
LAST-MODIFIED:20251213T222016Z
UID:7173-1765756800-1766188799@pacienti.si
SUMMARY:𝗗𝗢𝗕𝗥𝗢𝗗𝗘𝗟𝗡𝗜 𝗧𝗘𝗗𝗘𝗡 𝗭𝗗𝗥𝗔𝗩𝗦𝗧𝗩𝗘𝗡𝗘 𝗙𝗔𝗞𝗨𝗟𝗧𝗘𝗧𝗘 ❤️
DESCRIPTION:December je čas\, ko zrak napolni čarobnost praznikov. Toplina\, bližina in občutek\, da lahko s prijaznostjo nekomu polepšamo dan. To je tudi čas\, ko najlepše zasije pravo bistvo obdarovanja\, še posebej za tiste\, ki prazničnega veselja in daril ne morejo vedno doživeti. \n📣 V sodelovanju s Humanitarnim društvom Enostavno pomagam bomo tudi letos del njihovega dobrodelnega projekta »Božičkova tovarna daril«\, ki vsako leto poskrbi\, da otroke iz socialno ogroženih družin na božično jutro pod smrekico pričaka darilo. 🤗 \n✨ 𝗢𝗱 𝟭𝟱. 𝗱𝗼 𝟭𝟵. 𝗱𝗲𝗰𝗲𝗺𝗯𝗿𝗮 bomo v avli fakultete zbirali 𝗱𝗮𝗿𝗶𝗹𝗮 𝘇𝗮 𝗼𝘁𝗿𝗼𝗸𝗲 𝗼𝗱 𝟬 𝗱𝗼 𝟭𝟱 𝗹𝗲𝘁. \nPrispevate lahko: \n• igrače 🧸;\n• knjige 📚;\n• šolske potrebščine in ustvarjalni material 📝🎨;\n• sladkarije 🍬;\n• izdelke za osebno nego🧴;\n• kape\, šale\, rokavice. \nStvari naj bodo 𝗡𝗢𝗩𝗘\, 𝗭𝗔𝗣𝗔𝗞𝗘𝗧𝗜𝗥𝗔𝗡𝗘 𝗩 𝗢𝗥𝗚𝗜𝗡𝗔𝗟𝗡𝗜 𝗞𝗨𝗣𝗟𝗝𝗘𝗡𝗜 𝗘𝗠𝗕𝗔𝗟𝗔𝗭̌𝗜. 🙏🏼 \n📍 V avli fakultete vas bo poleg božične smreke vsak dan čakala posebna stojnica\, na katero lahko odložite svoja darila. 🎁 \n🎅 Ob nekaterih dneh pa vas bodo tam pričakali tudi Božičkovi pomočniki\, ki vam bodo v zahvalo za vaš prispevek podarili tudi majhne praznične priboljške. 🍪☕️🍬 \nℹ️ Po zaključku dobrodelnega tedna bomo vsa zbrana darila predali Humanitarnemu društvu Enostavno pomagam. Skupaj z gasilci\, policisti in prostovoljci jih bodo pred božičnim jutrom osebno dostavili otrokom na dom ter jim pričarali nepozabno praznično presenečenje. ❤️ \nHVALA vsem\, ki vam je mar. ❤️
URL:http://pacienti.si/dogodek/%f0%9d%97%97%f0%9d%97%a2%f0%9d%97%95%f0%9d%97%a5%f0%9d%97%a2%f0%9d%97%97%f0%9d%97%98%f0%9d%97%9f%f0%9d%97%a1%f0%9d%97%9c-%f0%9d%97%a7%f0%9d%97%98%f0%9d%97%97%f0%9d%97%98%f0%9d%97%a1-%f0%9d%97%ad/
LOCATION:Zdravstvena fakulteta
ATTACH;FMTTYPE=image/jpeg:http://pacienti.si/wp-content/uploads/2025/12/Posnetek-zaslona-2025-12-13-231624.jpg
ORGANIZER;CN="Pacienti%20Zdravstvene%20fakultete":MAILTO:nasi.pacienti@gmail.com
END:VEVENT
END:VCALENDAR